BEGIN:VCALENDAR
PRODID:http://www.kufer.de/kuferweb / DE
VERSION:2.0
METHOD:PUBLISH
CALSCALE:GREGORIAN
X-WR-TIMEZONE:Europe/Berlin
BEGIN:VTIMEZONE
TZID:Europe/Berlin
X-LIC-LOCATION:Europe/Berlin
BEGIN:DAYLIGHT
TZOFFSETFROM:+0100
TZOFFSETTO:+0200
TZNAME:CEST
DTSTART;TZID=Europe/Berlin:19700329T020000
RRULE:FREQ=YEARLY;INTERVAL=1;BYDAY=-1SU;BYMONTH=3
END:DAYLIGHT
BEGIN:STANDARD
TZOFFSETFROM:+0200
TZOFFSETTO:+0100
TZNAME:CET
DTSTART;TZID=Europe/Berlin:19701025T030000
RRULE:FREQ=YEARLY;INTERVAL=1;BYDAY=-1SU;BYMONTH=10
END:STANDARD
END:VTIMEZONE
BEGIN:VEVENT
DTSTAMP:20260420T100825
DTSTART;TZID=Europe/Berlin:20261005T100000
DTEND;TZID=Europe/Berlin:20261005T170000
UID:262-5101-20261005T100000@VHSHÖXTER
SUMMARY:Schneller zum Ziel: Inhalte effizient erstellen mit KI, Google & Canva (262-5101) 
LOCATION:Haus der Volkshochschule, Raum 13 - EDV, Möllingerstraße 9, 37671 Höxter
END:VEVENT
BEGIN:VEVENT
DTSTAMP:20260420T100825
DTSTART;TZID=Europe/Berlin:20261006T100000
DTEND;TZID=Europe/Berlin:20261006T170000
UID:262-5101-20261006T100000@VHSHÖXTER
SUMMARY:Schneller zum Ziel: Inhalte effizient erstellen mit KI, Google & Canva (262-5101) 
LOCATION:Haus der Volkshochschule, Raum 13 - EDV, Möllingerstraße 9, 37671 Höxter
END:VEVENT
BEGIN:VEVENT
DTSTAMP:20260420T100825
DTSTART;TZID=Europe/Berlin:20261007T100000
DTEND;TZID=Europe/Berlin:20261007T170000
UID:262-5101-20261007T100000@VHSHÖXTER
SUMMARY:Schneller zum Ziel: Inhalte effizient erstellen mit KI, Google & Canva (262-5101) 
LOCATION:Haus der Volkshochschule, Raum 13 - EDV, Möllingerstraße 9, 37671 Höxter
END:VEVENT
END:VCALENDAR