BEGIN:VCALENDAR
PRODID:http://www.kufer.de/kuferweb / DE
VERSION:2.0
METHOD:PUBLISH
CALSCALE:GREGORIAN
X-WR-TIMEZONE:Europe/Berlin
BEGIN:VTIMEZONE
TZID:Europe/Berlin
X-LIC-LOCATION:Europe/Berlin
BEGIN:DAYLIGHT
TZOFFSETFROM:+0100
TZOFFSETTO:+0200
TZNAME:CEST
DTSTART;TZID=Europe/Berlin:19700329T020000
RRULE:FREQ=YEARLY;INTERVAL=1;BYDAY=-1SU;BYMONTH=3
END:DAYLIGHT
BEGIN:STANDARD
TZOFFSETFROM:+0200
TZOFFSETTO:+0100
TZNAME:CET
DTSTART;TZID=Europe/Berlin:19701025T030000
RRULE:FREQ=YEARLY;INTERVAL=1;BYDAY=-1SU;BYMONTH=10
END:STANDARD
END:VTIMEZONE
BEGIN:VEVENT
DTSTAMP:20260420T100817
DTSTART;TZID=Europe/Berlin:20260928T083000
DTEND;TZID=Europe/Berlin:20260928T140000
UID:262-1213-20260928T083000@VHSHÖXTER
SUMMARY:Wirtschafts- und Finanzwissen einfach erklärt Online - Bildungsurlaub (262-1213) 
LOCATION:Online, , 
END:VEVENT
BEGIN:VEVENT
DTSTAMP:20260420T100817
DTSTART;TZID=Europe/Berlin:20260929T083000
DTEND;TZID=Europe/Berlin:20260929T140000
UID:262-1213-20260929T083000@VHSHÖXTER
SUMMARY:Wirtschafts- und Finanzwissen einfach erklärt Online - Bildungsurlaub (262-1213) 
LOCATION:Online, , 
END:VEVENT
BEGIN:VEVENT
DTSTAMP:20260420T100817
DTSTART;TZID=Europe/Berlin:20260930T083000
DTEND;TZID=Europe/Berlin:20260930T140000
UID:262-1213-20260930T083000@VHSHÖXTER
SUMMARY:Wirtschafts- und Finanzwissen einfach erklärt Online - Bildungsurlaub (262-1213) 
LOCATION:Online, , 
END:VEVENT
BEGIN:VEVENT
DTSTAMP:20260420T100817
DTSTART;TZID=Europe/Berlin:20261001T083000
DTEND;TZID=Europe/Berlin:20261001T140000
UID:262-1213-20261001T083000@VHSHÖXTER
SUMMARY:Wirtschafts- und Finanzwissen einfach erklärt Online - Bildungsurlaub (262-1213) 
LOCATION:Online, , 
END:VEVENT
BEGIN:VEVENT
DTSTAMP:20260420T100817
DTSTART;TZID=Europe/Berlin:20261002T083000
DTEND;TZID=Europe/Berlin:20261002T140000
UID:262-1213-20261002T083000@VHSHÖXTER
SUMMARY:Wirtschafts- und Finanzwissen einfach erklärt Online - Bildungsurlaub (262-1213) 
LOCATION:Online, , 
END:VEVENT
END:VCALENDAR