BEGIN:VCALENDAR
PRODID:http://www.kufer.de/kuferweb / DE
VERSION:2.0
METHOD:PUBLISH
CALSCALE:GREGORIAN
X-WR-TIMEZONE:Europe/Berlin
BEGIN:VTIMEZONE
TZID:Europe/Berlin
X-LIC-LOCATION:Europe/Berlin
BEGIN:DAYLIGHT
TZOFFSETFROM:+0100
TZOFFSETTO:+0200
TZNAME:CEST
DTSTART;TZID=Europe/Berlin:19700329T020000
RRULE:FREQ=YEARLY;INTERVAL=1;BYDAY=-1SU;BYMONTH=3
END:DAYLIGHT
BEGIN:STANDARD
TZOFFSETFROM:+0200
TZOFFSETTO:+0100
TZNAME:CET
DTSTART;TZID=Europe/Berlin:19701025T030000
RRULE:FREQ=YEARLY;INTERVAL=1;BYDAY=-1SU;BYMONTH=10
END:STANDARD
END:VTIMEZONE
BEGIN:VEVENT
DTSTAMP:20260421T171705
DTSTART;TZID=Europe/Berlin:20260204T080000
DTEND;TZID=Europe/Berlin:20260204T153000
UID:261-5618-20260204T080000@VHSHÖXTER
SUMMARY:AGH Projekt am Bielenberg (261-5618) 
LOCATION:Höxter, Bielenberg, Bergstraße 40, 37671 Höxter
END:VEVENT
BEGIN:VEVENT
DTSTAMP:20260421T171705
DTSTART;TZID=Europe/Berlin:20260205T080000
DTEND;TZID=Europe/Berlin:20260205T153000
UID:261-5618-20260205T080000@VHSHÖXTER
SUMMARY:AGH Projekt am Bielenberg (261-5618) 
LOCATION:Höxter, Bielenberg, Bergstraße 40, 37671 Höxter
END:VEVENT
BEGIN:VEVENT
DTSTAMP:20260421T171705
DTSTART;TZID=Europe/Berlin:20260209T080000
DTEND;TZID=Europe/Berlin:20260209T153000
UID:261-5618-20260209T080000@VHSHÖXTER
SUMMARY:AGH Projekt am Bielenberg (261-5618) 
LOCATION:Höxter, Bielenberg, Bergstraße 40, 37671 Höxter
END:VEVENT
BEGIN:VEVENT
DTSTAMP:20260421T171705
DTSTART;TZID=Europe/Berlin:20260210T080000
DTEND;TZID=Europe/Berlin:20260210T153000
UID:261-5618-20260210T080000@VHSHÖXTER
SUMMARY:AGH Projekt am Bielenberg (261-5618) 
LOCATION:Höxter, Bielenberg, Bergstraße 40, 37671 Höxter
END:VEVENT
BEGIN:VEVENT
DTSTAMP:20260421T171705
DTSTART;TZID=Europe/Berlin:20260211T080000
DTEND;TZID=Europe/Berlin:20260211T153000
UID:261-5618-20260211T080000@VHSHÖXTER
SUMMARY:AGH Projekt am Bielenberg (261-5618) 
LOCATION:Höxter, Bielenberg, Bergstraße 40, 37671 Höxter
END:VEVENT
BEGIN:VEVENT
DTSTAMP:20260421T171705
DTSTART;TZID=Europe/Berlin:20260212T080000
DTEND;TZID=Europe/Berlin:20260212T153000
UID:261-5618-20260212T080000@VHSHÖXTER
SUMMARY:AGH Projekt am Bielenberg (261-5618) 
LOCATION:Höxter, Bielenberg, Bergstraße 40, 37671 Höxter
END:VEVENT
BEGIN:VEVENT
DTSTAMP:20260421T171705
DTSTART;TZID=Europe/Berlin:20260213T080000
DTEND;TZID=Europe/Berlin:20260213T153000
UID:261-5618-20260213T080000@VHSHÖXTER
SUMMARY:AGH Projekt am Bielenberg (261-5618) 
LOCATION:Höxter, Bielenberg, Bergstraße 40, 37671 Höxter
END:VEVENT
BEGIN:VEVENT
DTSTAMP:20260421T171705
DTSTART;TZID=Europe/Berlin:20260325T080000
DTEND;TZID=Europe/Berlin:20260325T153000
UID:261-5618-20260325T080000@VHSHÖXTER
SUMMARY:AGH Projekt am Bielenberg (261-5618) 
LOCATION:Höxter, Bielenberg, Bergstraße 40, 37671 Höxter
END:VEVENT
BEGIN:VEVENT
DTSTAMP:20260421T171705
DTSTART;TZID=Europe/Berlin:20260326T080000
DTEND;TZID=Europe/Berlin:20260326T153000
UID:261-5618-20260326T080000@VHSHÖXTER
SUMMARY:AGH Projekt am Bielenberg (261-5618) 
LOCATION:Höxter, Bielenberg, Bergstraße 40, 37671 Höxter
END:VEVENT
BEGIN:VEVENT
DTSTAMP:20260421T171705
DTSTART;TZID=Europe/Berlin:20260330T080000
DTEND;TZID=Europe/Berlin:20260330T153000
UID:261-5618-20260330T080000@VHSHÖXTER
SUMMARY:AGH Projekt am Bielenberg (261-5618) 
LOCATION:Höxter, Bielenberg, Bergstraße 40, 37671 Höxter
END:VEVENT
BEGIN:VEVENT
DTSTAMP:20260421T171705
DTSTART;TZID=Europe/Berlin:20260331T080000
DTEND;TZID=Europe/Berlin:20260331T153000
UID:261-5618-20260331T080000@VHSHÖXTER
SUMMARY:AGH Projekt am Bielenberg (261-5618) 
LOCATION:Höxter, Bielenberg, Bergstraße 40, 37671 Höxter
END:VEVENT
END:VCALENDAR