BEGIN:VCALENDAR
PRODID:http://www.kufer.de/kuferweb / DE
VERSION:2.0
METHOD:PUBLISH
CALSCALE:GREGORIAN
X-WR-TIMEZONE:Europe/Berlin
BEGIN:VTIMEZONE
TZID:Europe/Berlin
X-LIC-LOCATION:Europe/Berlin
BEGIN:DAYLIGHT
TZOFFSETFROM:+0100
TZOFFSETTO:+0200
TZNAME:CEST
DTSTART;TZID=Europe/Berlin:19700329T020000
RRULE:FREQ=YEARLY;INTERVAL=1;BYDAY=-1SU;BYMONTH=3
END:DAYLIGHT
BEGIN:STANDARD
TZOFFSETFROM:+0200
TZOFFSETTO:+0100
TZNAME:CET
DTSTART;TZID=Europe/Berlin:19701025T030000
RRULE:FREQ=YEARLY;INTERVAL=1;BYDAY=-1SU;BYMONTH=10
END:STANDARD
END:VTIMEZONE
BEGIN:VEVENT
DTSTAMP:20260421T214615
DTSTART;TZID=Europe/Berlin:20260615T090000
DTEND;TZID=Europe/Berlin:20260615T160000
UID:261-5137-20260615T090000@VHSHÖXTER
SUMMARY:Fit für den Büroalltag  Praxisnaher Office-Kurs für Einsteiger und Auffrischer! (261-5137) 
LOCATION:Haus der Volkshochschule, Raum 13 - EDV, Möllingerstraße 9, 37671 Höxter
END:VEVENT
BEGIN:VEVENT
DTSTAMP:20260421T214615
DTSTART;TZID=Europe/Berlin:20260616T090000
DTEND;TZID=Europe/Berlin:20260616T160000
UID:261-5137-20260616T090000@VHSHÖXTER
SUMMARY:Fit für den Büroalltag  Praxisnaher Office-Kurs für Einsteiger und Auffrischer! (261-5137) 
LOCATION:Haus der Volkshochschule, Raum 13 - EDV, Möllingerstraße 9, 37671 Höxter
END:VEVENT
BEGIN:VEVENT
DTSTAMP:20260421T214615
DTSTART;TZID=Europe/Berlin:20260617T090000
DTEND;TZID=Europe/Berlin:20260617T160000
UID:261-5137-20260617T090000@VHSHÖXTER
SUMMARY:Fit für den Büroalltag  Praxisnaher Office-Kurs für Einsteiger und Auffrischer! (261-5137) 
LOCATION:Haus der Volkshochschule, Raum 13 - EDV, Möllingerstraße 9, 37671 Höxter
END:VEVENT
BEGIN:VEVENT
DTSTAMP:20260421T214615
DTSTART;TZID=Europe/Berlin:20260618T090000
DTEND;TZID=Europe/Berlin:20260618T160000
UID:261-5137-20260618T090000@VHSHÖXTER
SUMMARY:Fit für den Büroalltag  Praxisnaher Office-Kurs für Einsteiger und Auffrischer! (261-5137) 
LOCATION:Haus der Volkshochschule, Raum 13 - EDV, Möllingerstraße 9, 37671 Höxter
END:VEVENT
END:VCALENDAR