BEGIN:VCALENDAR
PRODID:http://www.kufer.de/kuferweb / DE
VERSION:2.0
METHOD:PUBLISH
CALSCALE:GREGORIAN
X-WR-TIMEZONE:Europe/Berlin
BEGIN:VTIMEZONE
TZID:Europe/Berlin
X-LIC-LOCATION:Europe/Berlin
BEGIN:DAYLIGHT
TZOFFSETFROM:+0100
TZOFFSETTO:+0200
TZNAME:CEST
DTSTART;TZID=Europe/Berlin:19700329T020000
RRULE:FREQ=YEARLY;INTERVAL=1;BYDAY=-1SU;BYMONTH=3
END:DAYLIGHT
BEGIN:STANDARD
TZOFFSETFROM:+0200
TZOFFSETTO:+0100
TZNAME:CET
DTSTART;TZID=Europe/Berlin:19701025T030000
RRULE:FREQ=YEARLY;INTERVAL=1;BYDAY=-1SU;BYMONTH=10
END:STANDARD
END:VTIMEZONE
BEGIN:VEVENT
DTSTAMP:20260420T100825
DTSTART;TZID=Europe/Berlin:20260609T180000
DTEND;TZID=Europe/Berlin:20260609T211500
UID:261-5136-20260609T180000@VHSHÖXTER
SUMMARY:Microsoft Office mit CoPilot – Effizient arbeiten mit KI-Unterstützung Abendkurs in Höxter (261-5136) 
LOCATION:Haus der Volkshochschule, Raum 13 - EDV, Möllingerstraße 9, 37671 Höxter
END:VEVENT
BEGIN:VEVENT
DTSTAMP:20260420T100825
DTSTART;TZID=Europe/Berlin:20260611T180000
DTEND;TZID=Europe/Berlin:20260611T211500
UID:261-5136-20260611T180000@VHSHÖXTER
SUMMARY:Microsoft Office mit CoPilot – Effizient arbeiten mit KI-Unterstützung Abendkurs in Höxter (261-5136) 
LOCATION:Haus der Volkshochschule, Raum 13 - EDV, Möllingerstraße 9, 37671 Höxter
END:VEVENT
BEGIN:VEVENT
DTSTAMP:20260420T100825
DTSTART;TZID=Europe/Berlin:20260616T180000
DTEND;TZID=Europe/Berlin:20260616T211500
UID:261-5136-20260616T180000@VHSHÖXTER
SUMMARY:Microsoft Office mit CoPilot – Effizient arbeiten mit KI-Unterstützung Abendkurs in Höxter (261-5136) 
LOCATION:Haus der Volkshochschule, Raum 13 - EDV, Möllingerstraße 9, 37671 Höxter
END:VEVENT
BEGIN:VEVENT
DTSTAMP:20260420T100825
DTSTART;TZID=Europe/Berlin:20260618T180000
DTEND;TZID=Europe/Berlin:20260618T211500
UID:261-5136-20260618T180000@VHSHÖXTER
SUMMARY:Microsoft Office mit CoPilot – Effizient arbeiten mit KI-Unterstützung Abendkurs in Höxter (261-5136) 
LOCATION:Haus der Volkshochschule, Raum 13 - EDV, Möllingerstraße 9, 37671 Höxter
END:VEVENT
END:VCALENDAR