BEGIN:VCALENDAR
PRODID:http://www.kufer.de/kuferweb / DE
VERSION:2.0
METHOD:PUBLISH
CALSCALE:GREGORIAN
X-WR-TIMEZONE:Europe/Berlin
BEGIN:VTIMEZONE
TZID:Europe/Berlin
X-LIC-LOCATION:Europe/Berlin
BEGIN:DAYLIGHT
TZOFFSETFROM:+0100
TZOFFSETTO:+0200
TZNAME:CEST
DTSTART;TZID=Europe/Berlin:19700329T020000
RRULE:FREQ=YEARLY;INTERVAL=1;BYDAY=-1SU;BYMONTH=3
END:DAYLIGHT
BEGIN:STANDARD
TZOFFSETFROM:+0200
TZOFFSETTO:+0100
TZNAME:CET
DTSTART;TZID=Europe/Berlin:19701025T030000
RRULE:FREQ=YEARLY;INTERVAL=1;BYDAY=-1SU;BYMONTH=10
END:STANDARD
END:VTIMEZONE
BEGIN:VEVENT
DTSTAMP:20260421T171629
DTSTART;TZID=Europe/Berlin:20260113T160000
DTEND;TZID=Europe/Berlin:20260113T173000
UID:261-4112-20260113T160000@VHSHÖXTER
SUMMARY:Sprachtreff Deutsch (261-4112) 
LOCATION:Haus der Volkshochschule, Aula, Möllingerstrasse 9, 37671 Höxter
END:VEVENT
BEGIN:VEVENT
DTSTAMP:20260421T171629
DTSTART;TZID=Europe/Berlin:20260120T160000
DTEND;TZID=Europe/Berlin:20260120T173000
UID:261-4112-20260120T160000@VHSHÖXTER
SUMMARY:Sprachtreff Deutsch (261-4112) 
LOCATION:Haus der Volkshochschule, Aula, Möllingerstrasse 9, 37671 Höxter
END:VEVENT
BEGIN:VEVENT
DTSTAMP:20260421T171629
DTSTART;TZID=Europe/Berlin:20260127T160000
DTEND;TZID=Europe/Berlin:20260127T173000
UID:261-4112-20260127T160000@VHSHÖXTER
SUMMARY:Sprachtreff Deutsch (261-4112) 
LOCATION:Haus der Volkshochschule, Aula, Möllingerstrasse 9, 37671 Höxter
END:VEVENT
BEGIN:VEVENT
DTSTAMP:20260421T171629
DTSTART;TZID=Europe/Berlin:20260203T160000
DTEND;TZID=Europe/Berlin:20260203T173000
UID:261-4112-20260203T160000@VHSHÖXTER
SUMMARY:Sprachtreff Deutsch (261-4112) 
LOCATION:Haus der Volkshochschule, Aula, Möllingerstrasse 9, 37671 Höxter
END:VEVENT
BEGIN:VEVENT
DTSTAMP:20260421T171629
DTSTART;TZID=Europe/Berlin:20260210T160000
DTEND;TZID=Europe/Berlin:20260210T173000
UID:261-4112-20260210T160000@VHSHÖXTER
SUMMARY:Sprachtreff Deutsch (261-4112) 
LOCATION:Haus der Volkshochschule, Aula, Möllingerstrasse 9, 37671 Höxter
END:VEVENT
BEGIN:VEVENT
DTSTAMP:20260421T171629
DTSTART;TZID=Europe/Berlin:20260217T160000
DTEND;TZID=Europe/Berlin:20260217T173000
UID:261-4112-20260217T160000@VHSHÖXTER
SUMMARY:Sprachtreff Deutsch (261-4112) 
LOCATION:Haus der Volkshochschule, Aula, Möllingerstrasse 9, 37671 Höxter
END:VEVENT
BEGIN:VEVENT
DTSTAMP:20260421T171629
DTSTART;TZID=Europe/Berlin:20260224T160000
DTEND;TZID=Europe/Berlin:20260224T173000
UID:261-4112-20260224T160000@VHSHÖXTER
SUMMARY:Sprachtreff Deutsch (261-4112) 
LOCATION:Haus der Volkshochschule, Aula, Möllingerstrasse 9, 37671 Höxter
END:VEVENT
BEGIN:VEVENT
DTSTAMP:20260421T171629
DTSTART;TZID=Europe/Berlin:20260303T160000
DTEND;TZID=Europe/Berlin:20260303T173000
UID:261-4112-20260303T160000@VHSHÖXTER
SUMMARY:Sprachtreff Deutsch (261-4112) 
LOCATION:Haus der Volkshochschule, Aula, Möllingerstrasse 9, 37671 Höxter
END:VEVENT
BEGIN:VEVENT
DTSTAMP:20260421T171629
DTSTART;TZID=Europe/Berlin:20260310T160000
DTEND;TZID=Europe/Berlin:20260310T173000
UID:261-4112-20260310T160000@VHSHÖXTER
SUMMARY:Sprachtreff Deutsch (261-4112) 
LOCATION:Haus der Volkshochschule, Aula, Möllingerstrasse 9, 37671 Höxter
END:VEVENT
BEGIN:VEVENT
DTSTAMP:20260421T171629
DTSTART;TZID=Europe/Berlin:20260317T160000
DTEND;TZID=Europe/Berlin:20260317T173000
UID:261-4112-20260317T160000@VHSHÖXTER
SUMMARY:Sprachtreff Deutsch (261-4112) 
LOCATION:Haus der Volkshochschule, Aula, Möllingerstrasse 9, 37671 Höxter
END:VEVENT
BEGIN:VEVENT
DTSTAMP:20260421T171629
DTSTART;TZID=Europe/Berlin:20260324T160000
DTEND;TZID=Europe/Berlin:20260324T173000
UID:261-4112-20260324T160000@VHSHÖXTER
SUMMARY:Sprachtreff Deutsch (261-4112) 
LOCATION:Haus der Volkshochschule, Aula, Möllingerstrasse 9, 37671 Höxter
END:VEVENT
BEGIN:VEVENT
DTSTAMP:20260421T171629
DTSTART;TZID=Europe/Berlin:20260414T160000
DTEND;TZID=Europe/Berlin:20260414T173000
UID:261-4112-20260414T160000@VHSHÖXTER
SUMMARY:Sprachtreff Deutsch (261-4112) 
LOCATION:Haus der Volkshochschule, Aula, Möllingerstrasse 9, 37671 Höxter
END:VEVENT
BEGIN:VEVENT
DTSTAMP:20260421T171629
DTSTART;TZID=Europe/Berlin:20260421T160000
DTEND;TZID=Europe/Berlin:20260421T173000
UID:261-4112-20260421T160000@VHSHÖXTER
SUMMARY:Sprachtreff Deutsch (261-4112) 
LOCATION:Haus der Volkshochschule, Aula, Möllingerstrasse 9, 37671 Höxter
END:VEVENT
BEGIN:VEVENT
DTSTAMP:20260421T171629
DTSTART;TZID=Europe/Berlin:20260428T160000
DTEND;TZID=Europe/Berlin:20260428T173000
UID:261-4112-20260428T160000@VHSHÖXTER
SUMMARY:Sprachtreff Deutsch (261-4112) 
LOCATION:Haus der Volkshochschule, Aula, Möllingerstrasse 9, 37671 Höxter
END:VEVENT
BEGIN:VEVENT
DTSTAMP:20260421T171629
DTSTART;TZID=Europe/Berlin:20260505T160000
DTEND;TZID=Europe/Berlin:20260505T173000
UID:261-4112-20260505T160000@VHSHÖXTER
SUMMARY:Sprachtreff Deutsch (261-4112) 
LOCATION:Haus der Volkshochschule, Aula, Möllingerstrasse 9, 37671 Höxter
END:VEVENT
BEGIN:VEVENT
DTSTAMP:20260421T171629
DTSTART;TZID=Europe/Berlin:20260512T160000
DTEND;TZID=Europe/Berlin:20260512T173000
UID:261-4112-20260512T160000@VHSHÖXTER
SUMMARY:Sprachtreff Deutsch (261-4112) 
LOCATION:Haus der Volkshochschule, Aula, Möllingerstrasse 9, 37671 Höxter
END:VEVENT
BEGIN:VEVENT
DTSTAMP:20260421T171629
DTSTART;TZID=Europe/Berlin:20260519T160000
DTEND;TZID=Europe/Berlin:20260519T173000
UID:261-4112-20260519T160000@VHSHÖXTER
SUMMARY:Sprachtreff Deutsch (261-4112) 
LOCATION:Haus der Volkshochschule, Aula, Möllingerstrasse 9, 37671 Höxter
END:VEVENT
BEGIN:VEVENT
DTSTAMP:20260421T171629
DTSTART;TZID=Europe/Berlin:20260602T160000
DTEND;TZID=Europe/Berlin:20260602T173000
UID:261-4112-20260602T160000@VHSHÖXTER
SUMMARY:Sprachtreff Deutsch (261-4112) 
LOCATION:Haus der Volkshochschule, Aula, Möllingerstrasse 9, 37671 Höxter
END:VEVENT
BEGIN:VEVENT
DTSTAMP:20260421T171629
DTSTART;TZID=Europe/Berlin:20260609T160000
DTEND;TZID=Europe/Berlin:20260609T173000
UID:261-4112-20260609T160000@VHSHÖXTER
SUMMARY:Sprachtreff Deutsch (261-4112) 
LOCATION:Haus der Volkshochschule, Aula, Möllingerstrasse 9, 37671 Höxter
END:VEVENT
BEGIN:VEVENT
DTSTAMP:20260421T171629
DTSTART;TZID=Europe/Berlin:20260616T160000
DTEND;TZID=Europe/Berlin:20260616T173000
UID:261-4112-20260616T160000@VHSHÖXTER
SUMMARY:Sprachtreff Deutsch (261-4112) 
LOCATION:Haus der Volkshochschule, Aula, Möllingerstrasse 9, 37671 Höxter
END:VEVENT
BEGIN:VEVENT
DTSTAMP:20260421T171629
DTSTART;TZID=Europe/Berlin:20260623T160000
DTEND;TZID=Europe/Berlin:20260623T173000
UID:261-4112-20260623T160000@VHSHÖXTER
SUMMARY:Sprachtreff Deutsch (261-4112) 
LOCATION:Haus der Volkshochschule, Aula, Möllingerstrasse 9, 37671 Höxter
END:VEVENT
BEGIN:VEVENT
DTSTAMP:20260421T171629
DTSTART;TZID=Europe/Berlin:20260630T160000
DTEND;TZID=Europe/Berlin:20260630T173000
UID:261-4112-20260630T160000@VHSHÖXTER
SUMMARY:Sprachtreff Deutsch (261-4112) 
LOCATION:Haus der Volkshochschule, Aula, Möllingerstrasse 9, 37671 Höxter
END:VEVENT
BEGIN:VEVENT
DTSTAMP:20260421T171629
DTSTART;TZID=Europe/Berlin:20260707T160000
DTEND;TZID=Europe/Berlin:20260707T173000
UID:261-4112-20260707T160000@VHSHÖXTER
SUMMARY:Sprachtreff Deutsch (261-4112) 
LOCATION:Haus der Volkshochschule, Aula, Möllingerstrasse 9, 37671 Höxter
END:VEVENT
BEGIN:VEVENT
DTSTAMP:20260421T171629
DTSTART;TZID=Europe/Berlin:20260714T160000
DTEND;TZID=Europe/Berlin:20260714T173000
UID:261-4112-20260714T160000@VHSHÖXTER
SUMMARY:Sprachtreff Deutsch (261-4112) 
LOCATION:Haus der Volkshochschule, Aula, Möllingerstrasse 9, 37671 Höxter
END:VEVENT
END:VCALENDAR