BEGIN:VCALENDAR
PRODID:http://www.kufer.de/kuferweb / DE
VERSION:2.0
METHOD:PUBLISH
CALSCALE:GREGORIAN
X-WR-TIMEZONE:Europe/Berlin
BEGIN:VTIMEZONE
TZID:Europe/Berlin
X-LIC-LOCATION:Europe/Berlin
BEGIN:DAYLIGHT
TZOFFSETFROM:+0100
TZOFFSETTO:+0200
TZNAME:CEST
DTSTART;TZID=Europe/Berlin:19700329T020000
RRULE:FREQ=YEARLY;INTERVAL=1;BYDAY=-1SU;BYMONTH=3
END:DAYLIGHT
BEGIN:STANDARD
TZOFFSETFROM:+0200
TZOFFSETTO:+0100
TZNAME:CET
DTSTART;TZID=Europe/Berlin:19701025T030000
RRULE:FREQ=YEARLY;INTERVAL=1;BYDAY=-1SU;BYMONTH=10
END:STANDARD
END:VTIMEZONE
BEGIN:VEVENT
DTSTAMP:20260420T131628
DTSTART;TZID=Europe/Berlin:20260121T180000
DTEND;TZID=Europe/Berlin:20260121T190000
UID:261-3284-20260121T180000@VHSHÖXTER
SUMMARY:Aquafitness Abendkurs 3 (261-3284) 
LOCATION:Höxter, Bad im Boddenhaus, Lütmarser Straße 60, 37671 Höxter
END:VEVENT
BEGIN:VEVENT
DTSTAMP:20260420T131628
DTSTART;TZID=Europe/Berlin:20260128T180000
DTEND;TZID=Europe/Berlin:20260128T190000
UID:261-3284-20260128T180000@VHSHÖXTER
SUMMARY:Aquafitness Abendkurs 3 (261-3284) 
LOCATION:Höxter, Bad im Boddenhaus, Lütmarser Straße 60, 37671 Höxter
END:VEVENT
BEGIN:VEVENT
DTSTAMP:20260420T131628
DTSTART;TZID=Europe/Berlin:20260204T180000
DTEND;TZID=Europe/Berlin:20260204T190000
UID:261-3284-20260204T180000@VHSHÖXTER
SUMMARY:Aquafitness Abendkurs 3 (261-3284) 
LOCATION:Höxter, Bad im Boddenhaus, Lütmarser Straße 60, 37671 Höxter
END:VEVENT
BEGIN:VEVENT
DTSTAMP:20260420T131628
DTSTART;TZID=Europe/Berlin:20260211T180000
DTEND;TZID=Europe/Berlin:20260211T190000
UID:261-3284-20260211T180000@VHSHÖXTER
SUMMARY:Aquafitness Abendkurs 3 (261-3284) 
LOCATION:Höxter, Bad im Boddenhaus, Lütmarser Straße 60, 37671 Höxter
END:VEVENT
BEGIN:VEVENT
DTSTAMP:20260420T131628
DTSTART;TZID=Europe/Berlin:20260218T180000
DTEND;TZID=Europe/Berlin:20260218T190000
UID:261-3284-20260218T180000@VHSHÖXTER
SUMMARY:Aquafitness Abendkurs 3 (261-3284) 
LOCATION:Höxter, Bad im Boddenhaus, Lütmarser Straße 60, 37671 Höxter
END:VEVENT
BEGIN:VEVENT
DTSTAMP:20260420T131628
DTSTART;TZID=Europe/Berlin:20260225T180000
DTEND;TZID=Europe/Berlin:20260225T190000
UID:261-3284-20260225T180000@VHSHÖXTER
SUMMARY:Aquafitness Abendkurs 3 (261-3284) 
LOCATION:Höxter, Bad im Boddenhaus, Lütmarser Straße 60, 37671 Höxter
END:VEVENT
BEGIN:VEVENT
DTSTAMP:20260420T131628
DTSTART;TZID=Europe/Berlin:20260304T180000
DTEND;TZID=Europe/Berlin:20260304T190000
UID:261-3284-20260304T180000@VHSHÖXTER
SUMMARY:Aquafitness Abendkurs 3 (261-3284) 
LOCATION:Höxter, Bad im Boddenhaus, Lütmarser Straße 60, 37671 Höxter
END:VEVENT
BEGIN:VEVENT
DTSTAMP:20260420T131628
DTSTART;TZID=Europe/Berlin:20260311T180000
DTEND;TZID=Europe/Berlin:20260311T190000
UID:261-3284-20260311T180000@VHSHÖXTER
SUMMARY:Aquafitness Abendkurs 3 (261-3284) 
LOCATION:Höxter, Bad im Boddenhaus, Lütmarser Straße 60, 37671 Höxter
END:VEVENT
BEGIN:VEVENT
DTSTAMP:20260420T131628
DTSTART;TZID=Europe/Berlin:20260318T180000
DTEND;TZID=Europe/Berlin:20260318T190000
UID:261-3284-20260318T180000@VHSHÖXTER
SUMMARY:Aquafitness Abendkurs 3 (261-3284) 
LOCATION:Höxter, Bad im Boddenhaus, Lütmarser Straße 60, 37671 Höxter
END:VEVENT
BEGIN:VEVENT
DTSTAMP:20260420T131628
DTSTART;TZID=Europe/Berlin:20260325T180000
DTEND;TZID=Europe/Berlin:20260325T190000
UID:261-3284-20260325T180000@VHSHÖXTER
SUMMARY:Aquafitness Abendkurs 3 (261-3284) 
LOCATION:Höxter, Bad im Boddenhaus, Lütmarser Straße 60, 37671 Höxter
END:VEVENT
BEGIN:VEVENT
DTSTAMP:20260420T131628
DTSTART;TZID=Europe/Berlin:20260415T180000
DTEND;TZID=Europe/Berlin:20260415T190000
UID:261-3284-20260415T180000@VHSHÖXTER
SUMMARY:Aquafitness Abendkurs 3 (261-3284) 
LOCATION:Höxter, Bad im Boddenhaus, Lütmarser Straße 60, 37671 Höxter
END:VEVENT
BEGIN:VEVENT
DTSTAMP:20260420T131628
DTSTART;TZID=Europe/Berlin:20260422T180000
DTEND;TZID=Europe/Berlin:20260422T190000
UID:261-3284-20260422T180000@VHSHÖXTER
SUMMARY:Aquafitness Abendkurs 3 (261-3284) 
LOCATION:Höxter, Bad im Boddenhaus, Lütmarser Straße 60, 37671 Höxter
END:VEVENT
END:VCALENDAR