BEGIN:VCALENDAR
PRODID:http://www.kufer.de/kuferweb / DE
VERSION:2.0
METHOD:PUBLISH
CALSCALE:GREGORIAN
X-WR-TIMEZONE:Europe/Berlin
BEGIN:VTIMEZONE
TZID:Europe/Berlin
X-LIC-LOCATION:Europe/Berlin
BEGIN:DAYLIGHT
TZOFFSETFROM:+0100
TZOFFSETTO:+0200
TZNAME:CEST
DTSTART;TZID=Europe/Berlin:19700329T020000
RRULE:FREQ=YEARLY;INTERVAL=1;BYDAY=-1SU;BYMONTH=3
END:DAYLIGHT
BEGIN:STANDARD
TZOFFSETFROM:+0200
TZOFFSETTO:+0100
TZNAME:CET
DTSTART;TZID=Europe/Berlin:19701025T030000
RRULE:FREQ=YEARLY;INTERVAL=1;BYDAY=-1SU;BYMONTH=10
END:STANDARD
END:VTIMEZONE
BEGIN:VEVENT
DTSTAMP:20260421T154713
DTSTART;TZID=Europe/Berlin:20260120T080000
DTEND;TZID=Europe/Berlin:20260120T084500
UID:261-3270-20260120T080000@VHSHÖXTER
SUMMARY:Aquajogging - Das Laufen im Wasser Kurs A in Vörden (261-3270) 
LOCATION:Marienmünster, Hallenbad, Schulstraße 5, 37696 Marienmünster
END:VEVENT
BEGIN:VEVENT
DTSTAMP:20260421T154713
DTSTART;TZID=Europe/Berlin:20260127T080000
DTEND;TZID=Europe/Berlin:20260127T084500
UID:261-3270-20260127T080000@VHSHÖXTER
SUMMARY:Aquajogging - Das Laufen im Wasser Kurs A in Vörden (261-3270) 
LOCATION:Marienmünster, Hallenbad, Schulstraße 5, 37696 Marienmünster
END:VEVENT
BEGIN:VEVENT
DTSTAMP:20260421T154713
DTSTART;TZID=Europe/Berlin:20260203T080000
DTEND;TZID=Europe/Berlin:20260203T084500
UID:261-3270-20260203T080000@VHSHÖXTER
SUMMARY:Aquajogging - Das Laufen im Wasser Kurs A in Vörden (261-3270) 
LOCATION:Marienmünster, Hallenbad, Schulstraße 5, 37696 Marienmünster
END:VEVENT
BEGIN:VEVENT
DTSTAMP:20260421T154713
DTSTART;TZID=Europe/Berlin:20260210T080000
DTEND;TZID=Europe/Berlin:20260210T084500
UID:261-3270-20260210T080000@VHSHÖXTER
SUMMARY:Aquajogging - Das Laufen im Wasser Kurs A in Vörden (261-3270) 
LOCATION:Marienmünster, Hallenbad, Schulstraße 5, 37696 Marienmünster
END:VEVENT
BEGIN:VEVENT
DTSTAMP:20260421T154713
DTSTART;TZID=Europe/Berlin:20260217T080000
DTEND;TZID=Europe/Berlin:20260217T084500
UID:261-3270-20260217T080000@VHSHÖXTER
SUMMARY:Aquajogging - Das Laufen im Wasser Kurs A in Vörden (261-3270) 
LOCATION:Marienmünster, Hallenbad, Schulstraße 5, 37696 Marienmünster
END:VEVENT
BEGIN:VEVENT
DTSTAMP:20260421T154713
DTSTART;TZID=Europe/Berlin:20260224T080000
DTEND;TZID=Europe/Berlin:20260224T084500
UID:261-3270-20260224T080000@VHSHÖXTER
SUMMARY:Aquajogging - Das Laufen im Wasser Kurs A in Vörden (261-3270) 
LOCATION:Marienmünster, Hallenbad, Schulstraße 5, 37696 Marienmünster
END:VEVENT
BEGIN:VEVENT
DTSTAMP:20260421T154713
DTSTART;TZID=Europe/Berlin:20260303T080000
DTEND;TZID=Europe/Berlin:20260303T084500
UID:261-3270-20260303T080000@VHSHÖXTER
SUMMARY:Aquajogging - Das Laufen im Wasser Kurs A in Vörden (261-3270) 
LOCATION:Marienmünster, Hallenbad, Schulstraße 5, 37696 Marienmünster
END:VEVENT
BEGIN:VEVENT
DTSTAMP:20260421T154713
DTSTART;TZID=Europe/Berlin:20260310T080000
DTEND;TZID=Europe/Berlin:20260310T084500
UID:261-3270-20260310T080000@VHSHÖXTER
SUMMARY:Aquajogging - Das Laufen im Wasser Kurs A in Vörden (261-3270) 
LOCATION:Marienmünster, Hallenbad, Schulstraße 5, 37696 Marienmünster
END:VEVENT
BEGIN:VEVENT
DTSTAMP:20260421T154713
DTSTART;TZID=Europe/Berlin:20260317T080000
DTEND;TZID=Europe/Berlin:20260317T084500
UID:261-3270-20260317T080000@VHSHÖXTER
SUMMARY:Aquajogging - Das Laufen im Wasser Kurs A in Vörden (261-3270) 
LOCATION:Marienmünster, Hallenbad, Schulstraße 5, 37696 Marienmünster
END:VEVENT
BEGIN:VEVENT
DTSTAMP:20260421T154713
DTSTART;TZID=Europe/Berlin:20260324T080000
DTEND;TZID=Europe/Berlin:20260324T084500
UID:261-3270-20260324T080000@VHSHÖXTER
SUMMARY:Aquajogging - Das Laufen im Wasser Kurs A in Vörden (261-3270) 
LOCATION:Marienmünster, Hallenbad, Schulstraße 5, 37696 Marienmünster
END:VEVENT
END:VCALENDAR