BEGIN:VCALENDAR
PRODID:http://www.kufer.de/kuferweb / DE
VERSION:2.0
METHOD:PUBLISH
CALSCALE:GREGORIAN
X-WR-TIMEZONE:Europe/Berlin
BEGIN:VTIMEZONE
TZID:Europe/Berlin
X-LIC-LOCATION:Europe/Berlin
BEGIN:DAYLIGHT
TZOFFSETFROM:+0100
TZOFFSETTO:+0200
TZNAME:CEST
DTSTART;TZID=Europe/Berlin:19700329T020000
RRULE:FREQ=YEARLY;INTERVAL=1;BYDAY=-1SU;BYMONTH=3
END:DAYLIGHT
BEGIN:STANDARD
TZOFFSETFROM:+0200
TZOFFSETTO:+0100
TZNAME:CET
DTSTART;TZID=Europe/Berlin:19701025T030000
RRULE:FREQ=YEARLY;INTERVAL=1;BYDAY=-1SU;BYMONTH=10
END:STANDARD
END:VTIMEZONE
BEGIN:VEVENT
DTSTAMP:20260421T183852
DTSTART;TZID=Europe/Berlin:20260123T104500
DTEND;TZID=Europe/Berlin:20260123T113000
UID:261-3268-20260123T104500@VHSHÖXTER
SUMMARY:Wassergymnastik in Vörden Vormittagskurs B (261-3268) 
LOCATION:Marienmünster, Hallenbad, Schulstraße 5, 37696 Marienmünster
END:VEVENT
BEGIN:VEVENT
DTSTAMP:20260421T183852
DTSTART;TZID=Europe/Berlin:20260130T104500
DTEND;TZID=Europe/Berlin:20260130T113000
UID:261-3268-20260130T104500@VHSHÖXTER
SUMMARY:Wassergymnastik in Vörden Vormittagskurs B (261-3268) 
LOCATION:Marienmünster, Hallenbad, Schulstraße 5, 37696 Marienmünster
END:VEVENT
BEGIN:VEVENT
DTSTAMP:20260421T183852
DTSTART;TZID=Europe/Berlin:20260206T104500
DTEND;TZID=Europe/Berlin:20260206T113000
UID:261-3268-20260206T104500@VHSHÖXTER
SUMMARY:Wassergymnastik in Vörden Vormittagskurs B (261-3268) 
LOCATION:Marienmünster, Hallenbad, Schulstraße 5, 37696 Marienmünster
END:VEVENT
BEGIN:VEVENT
DTSTAMP:20260421T183852
DTSTART;TZID=Europe/Berlin:20260213T104500
DTEND;TZID=Europe/Berlin:20260213T113000
UID:261-3268-20260213T104500@VHSHÖXTER
SUMMARY:Wassergymnastik in Vörden Vormittagskurs B (261-3268) 
LOCATION:Marienmünster, Hallenbad, Schulstraße 5, 37696 Marienmünster
END:VEVENT
BEGIN:VEVENT
DTSTAMP:20260421T183852
DTSTART;TZID=Europe/Berlin:20260220T104500
DTEND;TZID=Europe/Berlin:20260220T113000
UID:261-3268-20260220T104500@VHSHÖXTER
SUMMARY:Wassergymnastik in Vörden Vormittagskurs B (261-3268) 
LOCATION:Marienmünster, Hallenbad, Schulstraße 5, 37696 Marienmünster
END:VEVENT
BEGIN:VEVENT
DTSTAMP:20260421T183852
DTSTART;TZID=Europe/Berlin:20260227T104500
DTEND;TZID=Europe/Berlin:20260227T113000
UID:261-3268-20260227T104500@VHSHÖXTER
SUMMARY:Wassergymnastik in Vörden Vormittagskurs B (261-3268) 
LOCATION:Marienmünster, Hallenbad, Schulstraße 5, 37696 Marienmünster
END:VEVENT
BEGIN:VEVENT
DTSTAMP:20260421T183852
DTSTART;TZID=Europe/Berlin:20260306T104500
DTEND;TZID=Europe/Berlin:20260306T113000
UID:261-3268-20260306T104500@VHSHÖXTER
SUMMARY:Wassergymnastik in Vörden Vormittagskurs B (261-3268) 
LOCATION:Marienmünster, Hallenbad, Schulstraße 5, 37696 Marienmünster
END:VEVENT
BEGIN:VEVENT
DTSTAMP:20260421T183852
DTSTART;TZID=Europe/Berlin:20260313T104500
DTEND;TZID=Europe/Berlin:20260313T113000
UID:261-3268-20260313T104500@VHSHÖXTER
SUMMARY:Wassergymnastik in Vörden Vormittagskurs B (261-3268) 
LOCATION:Marienmünster, Hallenbad, Schulstraße 5, 37696 Marienmünster
END:VEVENT
BEGIN:VEVENT
DTSTAMP:20260421T183852
DTSTART;TZID=Europe/Berlin:20260320T104500
DTEND;TZID=Europe/Berlin:20260320T113000
UID:261-3268-20260320T104500@VHSHÖXTER
SUMMARY:Wassergymnastik in Vörden Vormittagskurs B (261-3268) 
LOCATION:Marienmünster, Hallenbad, Schulstraße 5, 37696 Marienmünster
END:VEVENT
BEGIN:VEVENT
DTSTAMP:20260421T183852
DTSTART;TZID=Europe/Berlin:20260417T104500
DTEND;TZID=Europe/Berlin:20260417T113000
UID:261-3268-20260417T104500@VHSHÖXTER
SUMMARY:Wassergymnastik in Vörden Vormittagskurs B (261-3268) 
LOCATION:Marienmünster, Hallenbad, Schulstraße 5, 37696 Marienmünster
END:VEVENT
END:VCALENDAR