BEGIN:VCALENDAR
PRODID:http://www.kufer.de/kuferweb / DE
VERSION:2.0
METHOD:PUBLISH
CALSCALE:GREGORIAN
X-WR-TIMEZONE:Europe/Berlin
BEGIN:VTIMEZONE
TZID:Europe/Berlin
X-LIC-LOCATION:Europe/Berlin
BEGIN:DAYLIGHT
TZOFFSETFROM:+0100
TZOFFSETTO:+0200
TZNAME:CEST
DTSTART;TZID=Europe/Berlin:19700329T020000
RRULE:FREQ=YEARLY;INTERVAL=1;BYDAY=-1SU;BYMONTH=3
END:DAYLIGHT
BEGIN:STANDARD
TZOFFSETFROM:+0200
TZOFFSETTO:+0100
TZNAME:CET
DTSTART;TZID=Europe/Berlin:19701025T030000
RRULE:FREQ=YEARLY;INTERVAL=1;BYDAY=-1SU;BYMONTH=10
END:STANDARD
END:VTIMEZONE
BEGIN:VEVENT
DTSTAMP:20260421T154641
DTSTART;TZID=Europe/Berlin:20260119T181500
DTEND;TZID=Europe/Berlin:20260119T190000
UID:261-3264-20260119T181500@VHSHÖXTER
SUMMARY:Wassergymnastik in Vörden Abendkurs A (261-3264) 
LOCATION:Marienmünster, Hallenbad, Schulstraße 5, 37696 Marienmünster
END:VEVENT
BEGIN:VEVENT
DTSTAMP:20260421T154641
DTSTART;TZID=Europe/Berlin:20260126T181500
DTEND;TZID=Europe/Berlin:20260126T190000
UID:261-3264-20260126T181500@VHSHÖXTER
SUMMARY:Wassergymnastik in Vörden Abendkurs A (261-3264) 
LOCATION:Marienmünster, Hallenbad, Schulstraße 5, 37696 Marienmünster
END:VEVENT
BEGIN:VEVENT
DTSTAMP:20260421T154641
DTSTART;TZID=Europe/Berlin:20260202T181500
DTEND;TZID=Europe/Berlin:20260202T190000
UID:261-3264-20260202T181500@VHSHÖXTER
SUMMARY:Wassergymnastik in Vörden Abendkurs A (261-3264) 
LOCATION:Marienmünster, Hallenbad, Schulstraße 5, 37696 Marienmünster
END:VEVENT
BEGIN:VEVENT
DTSTAMP:20260421T154641
DTSTART;TZID=Europe/Berlin:20260209T181500
DTEND;TZID=Europe/Berlin:20260209T190000
UID:261-3264-20260209T181500@VHSHÖXTER
SUMMARY:Wassergymnastik in Vörden Abendkurs A (261-3264) 
LOCATION:Marienmünster, Hallenbad, Schulstraße 5, 37696 Marienmünster
END:VEVENT
BEGIN:VEVENT
DTSTAMP:20260421T154641
DTSTART;TZID=Europe/Berlin:20260223T181500
DTEND;TZID=Europe/Berlin:20260223T190000
UID:261-3264-20260223T181500@VHSHÖXTER
SUMMARY:Wassergymnastik in Vörden Abendkurs A (261-3264) 
LOCATION:Marienmünster, Hallenbad, Schulstraße 5, 37696 Marienmünster
END:VEVENT
BEGIN:VEVENT
DTSTAMP:20260421T154641
DTSTART;TZID=Europe/Berlin:20260302T181500
DTEND;TZID=Europe/Berlin:20260302T190000
UID:261-3264-20260302T181500@VHSHÖXTER
SUMMARY:Wassergymnastik in Vörden Abendkurs A (261-3264) 
LOCATION:Marienmünster, Hallenbad, Schulstraße 5, 37696 Marienmünster
END:VEVENT
BEGIN:VEVENT
DTSTAMP:20260421T154641
DTSTART;TZID=Europe/Berlin:20260309T181500
DTEND;TZID=Europe/Berlin:20260309T190000
UID:261-3264-20260309T181500@VHSHÖXTER
SUMMARY:Wassergymnastik in Vörden Abendkurs A (261-3264) 
LOCATION:Marienmünster, Hallenbad, Schulstraße 5, 37696 Marienmünster
END:VEVENT
BEGIN:VEVENT
DTSTAMP:20260421T154641
DTSTART;TZID=Europe/Berlin:20260316T181500
DTEND;TZID=Europe/Berlin:20260316T190000
UID:261-3264-20260316T181500@VHSHÖXTER
SUMMARY:Wassergymnastik in Vörden Abendkurs A (261-3264) 
LOCATION:Marienmünster, Hallenbad, Schulstraße 5, 37696 Marienmünster
END:VEVENT
BEGIN:VEVENT
DTSTAMP:20260421T154641
DTSTART;TZID=Europe/Berlin:20260323T181500
DTEND;TZID=Europe/Berlin:20260323T190000
UID:261-3264-20260323T181500@VHSHÖXTER
SUMMARY:Wassergymnastik in Vörden Abendkurs A (261-3264) 
LOCATION:Marienmünster, Hallenbad, Schulstraße 5, 37696 Marienmünster
END:VEVENT
END:VCALENDAR