BEGIN:VCALENDAR
PRODID:http://www.kufer.de/kuferweb / DE
VERSION:2.0
METHOD:PUBLISH
CALSCALE:GREGORIAN
X-WR-TIMEZONE:Europe/Berlin
BEGIN:VTIMEZONE
TZID:Europe/Berlin
X-LIC-LOCATION:Europe/Berlin
BEGIN:DAYLIGHT
TZOFFSETFROM:+0100
TZOFFSETTO:+0200
TZNAME:CEST
DTSTART;TZID=Europe/Berlin:19700329T020000
RRULE:FREQ=YEARLY;INTERVAL=1;BYDAY=-1SU;BYMONTH=3
END:DAYLIGHT
BEGIN:STANDARD
TZOFFSETFROM:+0200
TZOFFSETTO:+0100
TZNAME:CET
DTSTART;TZID=Europe/Berlin:19701025T030000
RRULE:FREQ=YEARLY;INTERVAL=1;BYDAY=-1SU;BYMONTH=10
END:STANDARD
END:VTIMEZONE
BEGIN:VEVENT
DTSTAMP:20260421T173254
DTSTART;TZID=Europe/Berlin:20260126T100000
DTEND;TZID=Europe/Berlin:20260126T110000
UID:261-3244-20260126T100000@VHSHÖXTER
SUMMARY:Wohlfühlgymnastik für Senioren (261-3244) 
LOCATION:Haus der Volkshochschule, Raum 04, Möllingerstraße 9, 37671 Höxter
END:VEVENT
BEGIN:VEVENT
DTSTAMP:20260421T173254
DTSTART;TZID=Europe/Berlin:20260202T100000
DTEND;TZID=Europe/Berlin:20260202T110000
UID:261-3244-20260202T100000@VHSHÖXTER
SUMMARY:Wohlfühlgymnastik für Senioren (261-3244) 
LOCATION:Haus der Volkshochschule, Raum 04, Möllingerstraße 9, 37671 Höxter
END:VEVENT
BEGIN:VEVENT
DTSTAMP:20260421T173254
DTSTART;TZID=Europe/Berlin:20260209T100000
DTEND;TZID=Europe/Berlin:20260209T110000
UID:261-3244-20260209T100000@VHSHÖXTER
SUMMARY:Wohlfühlgymnastik für Senioren (261-3244) 
LOCATION:Haus der Volkshochschule, Raum 04, Möllingerstraße 9, 37671 Höxter
END:VEVENT
BEGIN:VEVENT
DTSTAMP:20260421T173254
DTSTART;TZID=Europe/Berlin:20260216T100000
DTEND;TZID=Europe/Berlin:20260216T110000
UID:261-3244-20260216T100000@VHSHÖXTER
SUMMARY:Wohlfühlgymnastik für Senioren (261-3244) 
LOCATION:Haus der Volkshochschule, Raum 04, Möllingerstraße 9, 37671 Höxter
END:VEVENT
BEGIN:VEVENT
DTSTAMP:20260421T173254
DTSTART;TZID=Europe/Berlin:20260223T100000
DTEND;TZID=Europe/Berlin:20260223T110000
UID:261-3244-20260223T100000@VHSHÖXTER
SUMMARY:Wohlfühlgymnastik für Senioren (261-3244) 
LOCATION:Haus der Volkshochschule, Raum 04, Möllingerstraße 9, 37671 Höxter
END:VEVENT
BEGIN:VEVENT
DTSTAMP:20260421T173254
DTSTART;TZID=Europe/Berlin:20260302T100000
DTEND;TZID=Europe/Berlin:20260302T110000
UID:261-3244-20260302T100000@VHSHÖXTER
SUMMARY:Wohlfühlgymnastik für Senioren (261-3244) 
LOCATION:Haus der Volkshochschule, Raum 04, Möllingerstraße 9, 37671 Höxter
END:VEVENT
BEGIN:VEVENT
DTSTAMP:20260421T173254
DTSTART;TZID=Europe/Berlin:20260309T100000
DTEND;TZID=Europe/Berlin:20260309T110000
UID:261-3244-20260309T100000@VHSHÖXTER
SUMMARY:Wohlfühlgymnastik für Senioren (261-3244) 
LOCATION:Haus der Volkshochschule, Raum 04, Möllingerstraße 9, 37671 Höxter
END:VEVENT
BEGIN:VEVENT
DTSTAMP:20260421T173254
DTSTART;TZID=Europe/Berlin:20260316T100000
DTEND;TZID=Europe/Berlin:20260316T110000
UID:261-3244-20260316T100000@VHSHÖXTER
SUMMARY:Wohlfühlgymnastik für Senioren (261-3244) 
LOCATION:Haus der Volkshochschule, Raum 04, Möllingerstraße 9, 37671 Höxter
END:VEVENT
BEGIN:VEVENT
DTSTAMP:20260421T173254
DTSTART;TZID=Europe/Berlin:20260413T100000
DTEND;TZID=Europe/Berlin:20260413T110000
UID:261-3244-20260413T100000@VHSHÖXTER
SUMMARY:Wohlfühlgymnastik für Senioren (261-3244) 
LOCATION:Haus der Volkshochschule, Raum 04, Möllingerstraße 9, 37671 Höxter
END:VEVENT
BEGIN:VEVENT
DTSTAMP:20260421T173254
DTSTART;TZID=Europe/Berlin:20260420T100000
DTEND;TZID=Europe/Berlin:20260420T110000
UID:261-3244-20260420T100000@VHSHÖXTER
SUMMARY:Wohlfühlgymnastik für Senioren (261-3244) 
LOCATION:Haus der Volkshochschule, Raum 04, Möllingerstraße 9, 37671 Höxter
END:VEVENT
BEGIN:VEVENT
DTSTAMP:20260421T173254
DTSTART;TZID=Europe/Berlin:20260427T100000
DTEND;TZID=Europe/Berlin:20260427T110000
UID:261-3244-20260427T100000@VHSHÖXTER
SUMMARY:Wohlfühlgymnastik für Senioren (261-3244) 
LOCATION:Haus der Volkshochschule, Raum 04, Möllingerstraße 9, 37671 Höxter
END:VEVENT
BEGIN:VEVENT
DTSTAMP:20260421T173254
DTSTART;TZID=Europe/Berlin:20260504T100000
DTEND;TZID=Europe/Berlin:20260504T110000
UID:261-3244-20260504T100000@VHSHÖXTER
SUMMARY:Wohlfühlgymnastik für Senioren (261-3244) 
LOCATION:Haus der Volkshochschule, Raum 04, Möllingerstraße 9, 37671 Höxter
END:VEVENT
END:VCALENDAR