BEGIN:VCALENDAR
PRODID:http://www.kufer.de/kuferweb / DE
VERSION:2.0
METHOD:PUBLISH
CALSCALE:GREGORIAN
X-WR-TIMEZONE:Europe/Berlin
BEGIN:VTIMEZONE
TZID:Europe/Berlin
X-LIC-LOCATION:Europe/Berlin
BEGIN:DAYLIGHT
TZOFFSETFROM:+0100
TZOFFSETTO:+0200
TZNAME:CEST
DTSTART;TZID=Europe/Berlin:19700329T020000
RRULE:FREQ=YEARLY;INTERVAL=1;BYDAY=-1SU;BYMONTH=3
END:DAYLIGHT
BEGIN:STANDARD
TZOFFSETFROM:+0200
TZOFFSETTO:+0100
TZNAME:CET
DTSTART;TZID=Europe/Berlin:19701025T030000
RRULE:FREQ=YEARLY;INTERVAL=1;BYDAY=-1SU;BYMONTH=10
END:STANDARD
END:VTIMEZONE
BEGIN:VEVENT
DTSTAMP:20260421T183847
DTSTART;TZID=Europe/Berlin:20260210T193000
DTEND;TZID=Europe/Berlin:20260210T201500
UID:261-3237-20260210T193000@VHSHÖXTER
SUMMARY:Ganzkörpertraining zu Musik (261-3237) 
LOCATION:Haus der Volkshochschule, Raum 04, Möllingerstraße 9, 37671 Höxter
END:VEVENT
BEGIN:VEVENT
DTSTAMP:20260421T183847
DTSTART;TZID=Europe/Berlin:20260217T193000
DTEND;TZID=Europe/Berlin:20260217T201500
UID:261-3237-20260217T193000@VHSHÖXTER
SUMMARY:Ganzkörpertraining zu Musik (261-3237) 
LOCATION:Haus der Volkshochschule, Raum 04, Möllingerstraße 9, 37671 Höxter
END:VEVENT
BEGIN:VEVENT
DTSTAMP:20260421T183847
DTSTART;TZID=Europe/Berlin:20260303T193000
DTEND;TZID=Europe/Berlin:20260303T201500
UID:261-3237-20260303T193000@VHSHÖXTER
SUMMARY:Ganzkörpertraining zu Musik (261-3237) 
LOCATION:Haus der Volkshochschule, Raum 04, Möllingerstraße 9, 37671 Höxter
END:VEVENT
BEGIN:VEVENT
DTSTAMP:20260421T183847
DTSTART;TZID=Europe/Berlin:20260310T193000
DTEND;TZID=Europe/Berlin:20260310T201500
UID:261-3237-20260310T193000@VHSHÖXTER
SUMMARY:Ganzkörpertraining zu Musik (261-3237) 
LOCATION:Haus der Volkshochschule, Raum 04, Möllingerstraße 9, 37671 Höxter
END:VEVENT
BEGIN:VEVENT
DTSTAMP:20260421T183847
DTSTART;TZID=Europe/Berlin:20260317T193000
DTEND;TZID=Europe/Berlin:20260317T201500
UID:261-3237-20260317T193000@VHSHÖXTER
SUMMARY:Ganzkörpertraining zu Musik (261-3237) 
LOCATION:Haus der Volkshochschule, Raum 04, Möllingerstraße 9, 37671 Höxter
END:VEVENT
BEGIN:VEVENT
DTSTAMP:20260421T183847
DTSTART;TZID=Europe/Berlin:20260414T193000
DTEND;TZID=Europe/Berlin:20260414T201500
UID:261-3237-20260414T193000@VHSHÖXTER
SUMMARY:Ganzkörpertraining zu Musik (261-3237) 
LOCATION:Haus der Volkshochschule, Raum 04, Möllingerstraße 9, 37671 Höxter
END:VEVENT
BEGIN:VEVENT
DTSTAMP:20260421T183847
DTSTART;TZID=Europe/Berlin:20260421T193000
DTEND;TZID=Europe/Berlin:20260421T201500
UID:261-3237-20260421T193000@VHSHÖXTER
SUMMARY:Ganzkörpertraining zu Musik (261-3237) 
LOCATION:Haus der Volkshochschule, Raum 04, Möllingerstraße 9, 37671 Höxter
END:VEVENT
BEGIN:VEVENT
DTSTAMP:20260421T183847
DTSTART;TZID=Europe/Berlin:20260428T193000
DTEND;TZID=Europe/Berlin:20260428T201500
UID:261-3237-20260428T193000@VHSHÖXTER
SUMMARY:Ganzkörpertraining zu Musik (261-3237) 
LOCATION:Haus der Volkshochschule, Raum 04, Möllingerstraße 9, 37671 Höxter
END:VEVENT
BEGIN:VEVENT
DTSTAMP:20260421T183847
DTSTART;TZID=Europe/Berlin:20260505T193000
DTEND;TZID=Europe/Berlin:20260505T201500
UID:261-3237-20260505T193000@VHSHÖXTER
SUMMARY:Ganzkörpertraining zu Musik (261-3237) 
LOCATION:Haus der Volkshochschule, Raum 04, Möllingerstraße 9, 37671 Höxter
END:VEVENT
BEGIN:VEVENT
DTSTAMP:20260421T183847
DTSTART;TZID=Europe/Berlin:20260512T193000
DTEND;TZID=Europe/Berlin:20260512T201500
UID:261-3237-20260512T193000@VHSHÖXTER
SUMMARY:Ganzkörpertraining zu Musik (261-3237) 
LOCATION:Haus der Volkshochschule, Raum 04, Möllingerstraße 9, 37671 Höxter
END:VEVENT
END:VCALENDAR