BEGIN:VCALENDAR
PRODID:http://www.kufer.de/kuferweb / DE
VERSION:2.0
METHOD:PUBLISH
CALSCALE:GREGORIAN
X-WR-TIMEZONE:Europe/Berlin
BEGIN:VTIMEZONE
TZID:Europe/Berlin
X-LIC-LOCATION:Europe/Berlin
BEGIN:DAYLIGHT
TZOFFSETFROM:+0100
TZOFFSETTO:+0200
TZNAME:CEST
DTSTART;TZID=Europe/Berlin:19700329T020000
RRULE:FREQ=YEARLY;INTERVAL=1;BYDAY=-1SU;BYMONTH=3
END:DAYLIGHT
BEGIN:STANDARD
TZOFFSETFROM:+0200
TZOFFSETTO:+0100
TZNAME:CET
DTSTART;TZID=Europe/Berlin:19701025T030000
RRULE:FREQ=YEARLY;INTERVAL=1;BYDAY=-1SU;BYMONTH=10
END:STANDARD
END:VTIMEZONE
BEGIN:VEVENT
DTSTAMP:20260421T153818
DTSTART;TZID=Europe/Berlin:20260202T173000
DTEND;TZID=Europe/Berlin:20260202T183000
UID:261-3234-20260202T173000@VHSHÖXTER
SUMMARY:Bodyforming (261-3234) 
LOCATION:Haus der Volkshochschule, Raum 04, Möllingerstraße 9, 37671 Höxter
END:VEVENT
BEGIN:VEVENT
DTSTAMP:20260421T153818
DTSTART;TZID=Europe/Berlin:20260209T173000
DTEND;TZID=Europe/Berlin:20260209T183000
UID:261-3234-20260209T173000@VHSHÖXTER
SUMMARY:Bodyforming (261-3234) 
LOCATION:Haus der Volkshochschule, Raum 04, Möllingerstraße 9, 37671 Höxter
END:VEVENT
BEGIN:VEVENT
DTSTAMP:20260421T153818
DTSTART;TZID=Europe/Berlin:20260223T173000
DTEND;TZID=Europe/Berlin:20260223T183000
UID:261-3234-20260223T173000@VHSHÖXTER
SUMMARY:Bodyforming (261-3234) 
LOCATION:Haus der Volkshochschule, Raum 04, Möllingerstraße 9, 37671 Höxter
END:VEVENT
BEGIN:VEVENT
DTSTAMP:20260421T153818
DTSTART;TZID=Europe/Berlin:20260302T173000
DTEND;TZID=Europe/Berlin:20260302T183000
UID:261-3234-20260302T173000@VHSHÖXTER
SUMMARY:Bodyforming (261-3234) 
LOCATION:Haus der Volkshochschule, Raum 04, Möllingerstraße 9, 37671 Höxter
END:VEVENT
BEGIN:VEVENT
DTSTAMP:20260421T153818
DTSTART;TZID=Europe/Berlin:20260309T173000
DTEND;TZID=Europe/Berlin:20260309T183000
UID:261-3234-20260309T173000@VHSHÖXTER
SUMMARY:Bodyforming (261-3234) 
LOCATION:Haus der Volkshochschule, Raum 04, Möllingerstraße 9, 37671 Höxter
END:VEVENT
BEGIN:VEVENT
DTSTAMP:20260421T153818
DTSTART;TZID=Europe/Berlin:20260316T173000
DTEND;TZID=Europe/Berlin:20260316T183000
UID:261-3234-20260316T173000@VHSHÖXTER
SUMMARY:Bodyforming (261-3234) 
LOCATION:Haus der Volkshochschule, Raum 04, Möllingerstraße 9, 37671 Höxter
END:VEVENT
BEGIN:VEVENT
DTSTAMP:20260421T153818
DTSTART;TZID=Europe/Berlin:20260323T173000
DTEND;TZID=Europe/Berlin:20260323T183000
UID:261-3234-20260323T173000@VHSHÖXTER
SUMMARY:Bodyforming (261-3234) 
LOCATION:Haus der Volkshochschule, Raum 04, Möllingerstraße 9, 37671 Höxter
END:VEVENT
BEGIN:VEVENT
DTSTAMP:20260421T153818
DTSTART;TZID=Europe/Berlin:20260413T173000
DTEND;TZID=Europe/Berlin:20260413T183000
UID:261-3234-20260413T173000@VHSHÖXTER
SUMMARY:Bodyforming (261-3234) 
LOCATION:Haus der Volkshochschule, Raum 04, Möllingerstraße 9, 37671 Höxter
END:VEVENT
BEGIN:VEVENT
DTSTAMP:20260421T153818
DTSTART;TZID=Europe/Berlin:20260420T173000
DTEND;TZID=Europe/Berlin:20260420T183000
UID:261-3234-20260420T173000@VHSHÖXTER
SUMMARY:Bodyforming (261-3234) 
LOCATION:Haus der Volkshochschule, Raum 04, Möllingerstraße 9, 37671 Höxter
END:VEVENT
BEGIN:VEVENT
DTSTAMP:20260421T153818
DTSTART;TZID=Europe/Berlin:20260427T173000
DTEND;TZID=Europe/Berlin:20260427T183000
UID:261-3234-20260427T173000@VHSHÖXTER
SUMMARY:Bodyforming (261-3234) 
LOCATION:Haus der Volkshochschule, Raum 04, Möllingerstraße 9, 37671 Höxter
END:VEVENT
BEGIN:VEVENT
DTSTAMP:20260421T153818
DTSTART;TZID=Europe/Berlin:20260504T173000
DTEND;TZID=Europe/Berlin:20260504T183000
UID:261-3234-20260504T173000@VHSHÖXTER
SUMMARY:Bodyforming (261-3234) 
LOCATION:Haus der Volkshochschule, Raum 04, Möllingerstraße 9, 37671 Höxter
END:VEVENT
BEGIN:VEVENT
DTSTAMP:20260421T153818
DTSTART;TZID=Europe/Berlin:20260511T173000
DTEND;TZID=Europe/Berlin:20260511T183000
UID:261-3234-20260511T173000@VHSHÖXTER
SUMMARY:Bodyforming (261-3234) 
LOCATION:Haus der Volkshochschule, Raum 04, Möllingerstraße 9, 37671 Höxter
END:VEVENT
BEGIN:VEVENT
DTSTAMP:20260421T153818
DTSTART;TZID=Europe/Berlin:20260518T173000
DTEND;TZID=Europe/Berlin:20260518T183000
UID:261-3234-20260518T173000@VHSHÖXTER
SUMMARY:Bodyforming (261-3234) 
LOCATION:Haus der Volkshochschule, Raum 04, Möllingerstraße 9, 37671 Höxter
END:VEVENT
END:VCALENDAR