BEGIN:VCALENDAR
PRODID:http://www.kufer.de/kuferweb / DE
VERSION:2.0
METHOD:PUBLISH
CALSCALE:GREGORIAN
X-WR-TIMEZONE:Europe/Berlin
BEGIN:VTIMEZONE
TZID:Europe/Berlin
X-LIC-LOCATION:Europe/Berlin
BEGIN:DAYLIGHT
TZOFFSETFROM:+0100
TZOFFSETTO:+0200
TZNAME:CEST
DTSTART;TZID=Europe/Berlin:19700329T020000
RRULE:FREQ=YEARLY;INTERVAL=1;BYDAY=-1SU;BYMONTH=3
END:DAYLIGHT
BEGIN:STANDARD
TZOFFSETFROM:+0200
TZOFFSETTO:+0100
TZNAME:CET
DTSTART;TZID=Europe/Berlin:19701025T030000
RRULE:FREQ=YEARLY;INTERVAL=1;BYDAY=-1SU;BYMONTH=10
END:STANDARD
END:VTIMEZONE
BEGIN:VEVENT
DTSTAMP:20260421T171602
DTSTART;TZID=Europe/Berlin:20260302T190000
DTEND;TZID=Europe/Berlin:20260302T200000
UID:261-3230-20260302T190000@VHSHÖXTER
SUMMARY:Tabata & Co. (261-3230) 
LOCATION:Höxter, Sporthalle Berufskolleg, Im Flor 35, 37671 Höxter
END:VEVENT
BEGIN:VEVENT
DTSTAMP:20260421T171602
DTSTART;TZID=Europe/Berlin:20260309T190000
DTEND;TZID=Europe/Berlin:20260309T200000
UID:261-3230-20260309T190000@VHSHÖXTER
SUMMARY:Tabata & Co. (261-3230) 
LOCATION:Höxter, Sporthalle Berufskolleg, Im Flor 35, 37671 Höxter
END:VEVENT
BEGIN:VEVENT
DTSTAMP:20260421T171602
DTSTART;TZID=Europe/Berlin:20260316T190000
DTEND;TZID=Europe/Berlin:20260316T200000
UID:261-3230-20260316T190000@VHSHÖXTER
SUMMARY:Tabata & Co. (261-3230) 
LOCATION:Höxter, Sporthalle Berufskolleg, Im Flor 35, 37671 Höxter
END:VEVENT
BEGIN:VEVENT
DTSTAMP:20260421T171602
DTSTART;TZID=Europe/Berlin:20260323T190000
DTEND;TZID=Europe/Berlin:20260323T200000
UID:261-3230-20260323T190000@VHSHÖXTER
SUMMARY:Tabata & Co. (261-3230) 
LOCATION:Höxter, Sporthalle Berufskolleg, Im Flor 35, 37671 Höxter
END:VEVENT
BEGIN:VEVENT
DTSTAMP:20260421T171602
DTSTART;TZID=Europe/Berlin:20260413T190000
DTEND;TZID=Europe/Berlin:20260413T200000
UID:261-3230-20260413T190000@VHSHÖXTER
SUMMARY:Tabata & Co. (261-3230) 
LOCATION:Höxter, Sporthalle Berufskolleg, Im Flor 35, 37671 Höxter
END:VEVENT
BEGIN:VEVENT
DTSTAMP:20260421T171602
DTSTART;TZID=Europe/Berlin:20260420T190000
DTEND;TZID=Europe/Berlin:20260420T200000
UID:261-3230-20260420T190000@VHSHÖXTER
SUMMARY:Tabata & Co. (261-3230) 
LOCATION:Höxter, Sporthalle Berufskolleg, Im Flor 35, 37671 Höxter
END:VEVENT
BEGIN:VEVENT
DTSTAMP:20260421T171602
DTSTART;TZID=Europe/Berlin:20260427T190000
DTEND;TZID=Europe/Berlin:20260427T200000
UID:261-3230-20260427T190000@VHSHÖXTER
SUMMARY:Tabata & Co. (261-3230) 
LOCATION:Höxter, Sporthalle Berufskolleg, Im Flor 35, 37671 Höxter
END:VEVENT
BEGIN:VEVENT
DTSTAMP:20260421T171602
DTSTART;TZID=Europe/Berlin:20260504T190000
DTEND;TZID=Europe/Berlin:20260504T200000
UID:261-3230-20260504T190000@VHSHÖXTER
SUMMARY:Tabata & Co. (261-3230) 
LOCATION:Höxter, Sporthalle Berufskolleg, Im Flor 35, 37671 Höxter
END:VEVENT
BEGIN:VEVENT
DTSTAMP:20260421T171602
DTSTART;TZID=Europe/Berlin:20260511T190000
DTEND;TZID=Europe/Berlin:20260511T200000
UID:261-3230-20260511T190000@VHSHÖXTER
SUMMARY:Tabata & Co. (261-3230) 
LOCATION:Höxter, Sporthalle Berufskolleg, Im Flor 35, 37671 Höxter
END:VEVENT
BEGIN:VEVENT
DTSTAMP:20260421T171602
DTSTART;TZID=Europe/Berlin:20260518T190000
DTEND;TZID=Europe/Berlin:20260518T200000
UID:261-3230-20260518T190000@VHSHÖXTER
SUMMARY:Tabata & Co. (261-3230) 
LOCATION:Höxter, Sporthalle Berufskolleg, Im Flor 35, 37671 Höxter
END:VEVENT
END:VCALENDAR