BEGIN:VCALENDAR
PRODID:http://www.kufer.de/kuferweb / DE
VERSION:2.0
METHOD:PUBLISH
CALSCALE:GREGORIAN
X-WR-TIMEZONE:Europe/Berlin
BEGIN:VTIMEZONE
TZID:Europe/Berlin
X-LIC-LOCATION:Europe/Berlin
BEGIN:DAYLIGHT
TZOFFSETFROM:+0100
TZOFFSETTO:+0200
TZNAME:CEST
DTSTART;TZID=Europe/Berlin:19700329T020000
RRULE:FREQ=YEARLY;INTERVAL=1;BYDAY=-1SU;BYMONTH=3
END:DAYLIGHT
BEGIN:STANDARD
TZOFFSETFROM:+0200
TZOFFSETTO:+0100
TZNAME:CET
DTSTART;TZID=Europe/Berlin:19701025T030000
RRULE:FREQ=YEARLY;INTERVAL=1;BYDAY=-1SU;BYMONTH=10
END:STANDARD
END:VTIMEZONE
BEGIN:VEVENT
DTSTAMP:20260421T165409
DTSTART;TZID=Europe/Berlin:20260219T100000
DTEND;TZID=Europe/Berlin:20260219T104500
UID:261-3222-20260219T100000@VHSHÖXTER
SUMMARY:Bewegung und Sport Kurs 2 (261-3222) 
LOCATION:Werkstätten am Grünenberg Ottbergen, Gymnastikraum, , 
END:VEVENT
BEGIN:VEVENT
DTSTAMP:20260421T165409
DTSTART;TZID=Europe/Berlin:20260226T100000
DTEND;TZID=Europe/Berlin:20260226T104500
UID:261-3222-20260226T100000@VHSHÖXTER
SUMMARY:Bewegung und Sport Kurs 2 (261-3222) 
LOCATION:Werkstätten am Grünenberg Ottbergen, Gymnastikraum, , 
END:VEVENT
BEGIN:VEVENT
DTSTAMP:20260421T165409
DTSTART;TZID=Europe/Berlin:20260305T100000
DTEND;TZID=Europe/Berlin:20260305T104500
UID:261-3222-20260305T100000@VHSHÖXTER
SUMMARY:Bewegung und Sport Kurs 2 (261-3222) 
LOCATION:Werkstätten am Grünenberg Ottbergen, Gymnastikraum, , 
END:VEVENT
BEGIN:VEVENT
DTSTAMP:20260421T165409
DTSTART;TZID=Europe/Berlin:20260312T100000
DTEND;TZID=Europe/Berlin:20260312T104500
UID:261-3222-20260312T100000@VHSHÖXTER
SUMMARY:Bewegung und Sport Kurs 2 (261-3222) 
LOCATION:Werkstätten am Grünenberg Ottbergen, Gymnastikraum, , 
END:VEVENT
BEGIN:VEVENT
DTSTAMP:20260421T165409
DTSTART;TZID=Europe/Berlin:20260319T100000
DTEND;TZID=Europe/Berlin:20260319T104500
UID:261-3222-20260319T100000@VHSHÖXTER
SUMMARY:Bewegung und Sport Kurs 2 (261-3222) 
LOCATION:Werkstätten am Grünenberg Ottbergen, Gymnastikraum, , 
END:VEVENT
BEGIN:VEVENT
DTSTAMP:20260421T165409
DTSTART;TZID=Europe/Berlin:20260326T100000
DTEND;TZID=Europe/Berlin:20260326T104500
UID:261-3222-20260326T100000@VHSHÖXTER
SUMMARY:Bewegung und Sport Kurs 2 (261-3222) 
LOCATION:Werkstätten am Grünenberg Ottbergen, Gymnastikraum, , 
END:VEVENT
BEGIN:VEVENT
DTSTAMP:20260421T165409
DTSTART;TZID=Europe/Berlin:20260416T100000
DTEND;TZID=Europe/Berlin:20260416T104500
UID:261-3222-20260416T100000@VHSHÖXTER
SUMMARY:Bewegung und Sport Kurs 2 (261-3222) 
LOCATION:Werkstätten am Grünenberg Ottbergen, Gymnastikraum, , 
END:VEVENT
BEGIN:VEVENT
DTSTAMP:20260421T165409
DTSTART;TZID=Europe/Berlin:20260423T100000
DTEND;TZID=Europe/Berlin:20260423T104500
UID:261-3222-20260423T100000@VHSHÖXTER
SUMMARY:Bewegung und Sport Kurs 2 (261-3222) 
LOCATION:Werkstätten am Grünenberg Ottbergen, Gymnastikraum, , 
END:VEVENT
BEGIN:VEVENT
DTSTAMP:20260421T165409
DTSTART;TZID=Europe/Berlin:20260430T100000
DTEND;TZID=Europe/Berlin:20260430T104500
UID:261-3222-20260430T100000@VHSHÖXTER
SUMMARY:Bewegung und Sport Kurs 2 (261-3222) 
LOCATION:Werkstätten am Grünenberg Ottbergen, Gymnastikraum, , 
END:VEVENT
BEGIN:VEVENT
DTSTAMP:20260421T165409
DTSTART;TZID=Europe/Berlin:20260507T100000
DTEND;TZID=Europe/Berlin:20260507T104500
UID:261-3222-20260507T100000@VHSHÖXTER
SUMMARY:Bewegung und Sport Kurs 2 (261-3222) 
LOCATION:Werkstätten am Grünenberg Ottbergen, Gymnastikraum, , 
END:VEVENT
END:VCALENDAR