BEGIN:VCALENDAR
PRODID:http://www.kufer.de/kuferweb / DE
VERSION:2.0
METHOD:PUBLISH
CALSCALE:GREGORIAN
X-WR-TIMEZONE:Europe/Berlin
BEGIN:VTIMEZONE
TZID:Europe/Berlin
X-LIC-LOCATION:Europe/Berlin
BEGIN:DAYLIGHT
TZOFFSETFROM:+0100
TZOFFSETTO:+0200
TZNAME:CEST
DTSTART;TZID=Europe/Berlin:19700329T020000
RRULE:FREQ=YEARLY;INTERVAL=1;BYDAY=-1SU;BYMONTH=3
END:DAYLIGHT
BEGIN:STANDARD
TZOFFSETFROM:+0200
TZOFFSETTO:+0100
TZNAME:CET
DTSTART;TZID=Europe/Berlin:19701025T030000
RRULE:FREQ=YEARLY;INTERVAL=1;BYDAY=-1SU;BYMONTH=10
END:STANDARD
END:VTIMEZONE
BEGIN:VEVENT
DTSTAMP:20260421T153948
DTSTART;TZID=Europe/Berlin:20260202T184500
DTEND;TZID=Europe/Berlin:20260202T200000
UID:261-3212-20260202T184500@VHSHÖXTER
SUMMARY:Wirbelsäulengymnastik (261-3212) 
LOCATION:Haus der Volkshochschule, Raum 04, Möllingerstraße 9, 37671 Höxter
END:VEVENT
BEGIN:VEVENT
DTSTAMP:20260421T153948
DTSTART;TZID=Europe/Berlin:20260209T184500
DTEND;TZID=Europe/Berlin:20260209T200000
UID:261-3212-20260209T184500@VHSHÖXTER
SUMMARY:Wirbelsäulengymnastik (261-3212) 
LOCATION:Haus der Volkshochschule, Raum 04, Möllingerstraße 9, 37671 Höxter
END:VEVENT
BEGIN:VEVENT
DTSTAMP:20260421T153948
DTSTART;TZID=Europe/Berlin:20260223T184500
DTEND;TZID=Europe/Berlin:20260223T200000
UID:261-3212-20260223T184500@VHSHÖXTER
SUMMARY:Wirbelsäulengymnastik (261-3212) 
LOCATION:Haus der Volkshochschule, Raum 04, Möllingerstraße 9, 37671 Höxter
END:VEVENT
BEGIN:VEVENT
DTSTAMP:20260421T153948
DTSTART;TZID=Europe/Berlin:20260302T184500
DTEND;TZID=Europe/Berlin:20260302T200000
UID:261-3212-20260302T184500@VHSHÖXTER
SUMMARY:Wirbelsäulengymnastik (261-3212) 
LOCATION:Haus der Volkshochschule, Raum 04, Möllingerstraße 9, 37671 Höxter
END:VEVENT
BEGIN:VEVENT
DTSTAMP:20260421T153948
DTSTART;TZID=Europe/Berlin:20260309T184500
DTEND;TZID=Europe/Berlin:20260309T200000
UID:261-3212-20260309T184500@VHSHÖXTER
SUMMARY:Wirbelsäulengymnastik (261-3212) 
LOCATION:Haus der Volkshochschule, Raum 04, Möllingerstraße 9, 37671 Höxter
END:VEVENT
BEGIN:VEVENT
DTSTAMP:20260421T153948
DTSTART;TZID=Europe/Berlin:20260316T184500
DTEND;TZID=Europe/Berlin:20260316T200000
UID:261-3212-20260316T184500@VHSHÖXTER
SUMMARY:Wirbelsäulengymnastik (261-3212) 
LOCATION:Haus der Volkshochschule, Raum 04, Möllingerstraße 9, 37671 Höxter
END:VEVENT
BEGIN:VEVENT
DTSTAMP:20260421T153948
DTSTART;TZID=Europe/Berlin:20260323T184500
DTEND;TZID=Europe/Berlin:20260323T200000
UID:261-3212-20260323T184500@VHSHÖXTER
SUMMARY:Wirbelsäulengymnastik (261-3212) 
LOCATION:Haus der Volkshochschule, Raum 04, Möllingerstraße 9, 37671 Höxter
END:VEVENT
BEGIN:VEVENT
DTSTAMP:20260421T153948
DTSTART;TZID=Europe/Berlin:20260413T184500
DTEND;TZID=Europe/Berlin:20260413T200000
UID:261-3212-20260413T184500@VHSHÖXTER
SUMMARY:Wirbelsäulengymnastik (261-3212) 
LOCATION:Haus der Volkshochschule, Raum 04, Möllingerstraße 9, 37671 Höxter
END:VEVENT
BEGIN:VEVENT
DTSTAMP:20260421T153948
DTSTART;TZID=Europe/Berlin:20260420T184500
DTEND;TZID=Europe/Berlin:20260420T200000
UID:261-3212-20260420T184500@VHSHÖXTER
SUMMARY:Wirbelsäulengymnastik (261-3212) 
LOCATION:Haus der Volkshochschule, Raum 04, Möllingerstraße 9, 37671 Höxter
END:VEVENT
BEGIN:VEVENT
DTSTAMP:20260421T153948
DTSTART;TZID=Europe/Berlin:20260427T184500
DTEND;TZID=Europe/Berlin:20260427T200000
UID:261-3212-20260427T184500@VHSHÖXTER
SUMMARY:Wirbelsäulengymnastik (261-3212) 
LOCATION:Haus der Volkshochschule, Raum 04, Möllingerstraße 9, 37671 Höxter
END:VEVENT
BEGIN:VEVENT
DTSTAMP:20260421T153948
DTSTART;TZID=Europe/Berlin:20260504T184500
DTEND;TZID=Europe/Berlin:20260504T200000
UID:261-3212-20260504T184500@VHSHÖXTER
SUMMARY:Wirbelsäulengymnastik (261-3212) 
LOCATION:Haus der Volkshochschule, Raum 04, Möllingerstraße 9, 37671 Höxter
END:VEVENT
BEGIN:VEVENT
DTSTAMP:20260421T153948
DTSTART;TZID=Europe/Berlin:20260511T184500
DTEND;TZID=Europe/Berlin:20260511T200000
UID:261-3212-20260511T184500@VHSHÖXTER
SUMMARY:Wirbelsäulengymnastik (261-3212) 
LOCATION:Haus der Volkshochschule, Raum 04, Möllingerstraße 9, 37671 Höxter
END:VEVENT
BEGIN:VEVENT
DTSTAMP:20260421T153948
DTSTART;TZID=Europe/Berlin:20260518T184500
DTEND;TZID=Europe/Berlin:20260518T200000
UID:261-3212-20260518T184500@VHSHÖXTER
SUMMARY:Wirbelsäulengymnastik (261-3212) 
LOCATION:Haus der Volkshochschule, Raum 04, Möllingerstraße 9, 37671 Höxter
END:VEVENT
END:VCALENDAR