BEGIN:VCALENDAR
PRODID:http://www.kufer.de/kuferweb / DE
VERSION:2.0
METHOD:PUBLISH
CALSCALE:GREGORIAN
X-WR-TIMEZONE:Europe/Berlin
BEGIN:VTIMEZONE
TZID:Europe/Berlin
X-LIC-LOCATION:Europe/Berlin
BEGIN:DAYLIGHT
TZOFFSETFROM:+0100
TZOFFSETTO:+0200
TZNAME:CEST
DTSTART;TZID=Europe/Berlin:19700329T020000
RRULE:FREQ=YEARLY;INTERVAL=1;BYDAY=-1SU;BYMONTH=3
END:DAYLIGHT
BEGIN:STANDARD
TZOFFSETFROM:+0200
TZOFFSETTO:+0100
TZNAME:CET
DTSTART;TZID=Europe/Berlin:19701025T030000
RRULE:FREQ=YEARLY;INTERVAL=1;BYDAY=-1SU;BYMONTH=10
END:STANDARD
END:VTIMEZONE
BEGIN:VEVENT
DTSTAMP:20260421T165354
DTSTART;TZID=Europe/Berlin:20260217T104500
DTEND;TZID=Europe/Berlin:20260217T113000
UID:261-3210-20260217T104500@VHSHÖXTER
SUMMARY:Das bewegte Gehirntraining: NeuroKinetik® (Kurs 1) (261-3210) 
LOCATION:Haus der Volkshochschule, Raum 04, Möllingerstraße 9, 37671 Höxter
END:VEVENT
BEGIN:VEVENT
DTSTAMP:20260421T165354
DTSTART;TZID=Europe/Berlin:20260224T104500
DTEND;TZID=Europe/Berlin:20260224T113000
UID:261-3210-20260224T104500@VHSHÖXTER
SUMMARY:Das bewegte Gehirntraining: NeuroKinetik® (Kurs 1) (261-3210) 
LOCATION:Haus der Volkshochschule, Raum 04, Möllingerstraße 9, 37671 Höxter
END:VEVENT
BEGIN:VEVENT
DTSTAMP:20260421T165354
DTSTART;TZID=Europe/Berlin:20260303T104500
DTEND;TZID=Europe/Berlin:20260303T113000
UID:261-3210-20260303T104500@VHSHÖXTER
SUMMARY:Das bewegte Gehirntraining: NeuroKinetik® (Kurs 1) (261-3210) 
LOCATION:Haus der Volkshochschule, Raum 04, Möllingerstraße 9, 37671 Höxter
END:VEVENT
BEGIN:VEVENT
DTSTAMP:20260421T165354
DTSTART;TZID=Europe/Berlin:20260310T104500
DTEND;TZID=Europe/Berlin:20260310T113000
UID:261-3210-20260310T104500@VHSHÖXTER
SUMMARY:Das bewegte Gehirntraining: NeuroKinetik® (Kurs 1) (261-3210) 
LOCATION:Haus der Volkshochschule, Raum 04, Möllingerstraße 9, 37671 Höxter
END:VEVENT
BEGIN:VEVENT
DTSTAMP:20260421T165354
DTSTART;TZID=Europe/Berlin:20260317T104500
DTEND;TZID=Europe/Berlin:20260317T113000
UID:261-3210-20260317T104500@VHSHÖXTER
SUMMARY:Das bewegte Gehirntraining: NeuroKinetik® (Kurs 1) (261-3210) 
LOCATION:Haus der Volkshochschule, Raum 04, Möllingerstraße 9, 37671 Höxter
END:VEVENT
BEGIN:VEVENT
DTSTAMP:20260421T165354
DTSTART;TZID=Europe/Berlin:20260324T104500
DTEND;TZID=Europe/Berlin:20260324T113000
UID:261-3210-20260324T104500@VHSHÖXTER
SUMMARY:Das bewegte Gehirntraining: NeuroKinetik® (Kurs 1) (261-3210) 
LOCATION:Haus der Volkshochschule, Raum 04, Möllingerstraße 9, 37671 Höxter
END:VEVENT
END:VCALENDAR