BEGIN:VCALENDAR
PRODID:http://www.kufer.de/kuferweb / DE
VERSION:2.0
METHOD:PUBLISH
CALSCALE:GREGORIAN
X-WR-TIMEZONE:Europe/Berlin
BEGIN:VTIMEZONE
TZID:Europe/Berlin
X-LIC-LOCATION:Europe/Berlin
BEGIN:DAYLIGHT
TZOFFSETFROM:+0100
TZOFFSETTO:+0200
TZNAME:CEST
DTSTART;TZID=Europe/Berlin:19700329T020000
RRULE:FREQ=YEARLY;INTERVAL=1;BYDAY=-1SU;BYMONTH=3
END:DAYLIGHT
BEGIN:STANDARD
TZOFFSETFROM:+0200
TZOFFSETTO:+0100
TZNAME:CET
DTSTART;TZID=Europe/Berlin:19701025T030000
RRULE:FREQ=YEARLY;INTERVAL=1;BYDAY=-1SU;BYMONTH=10
END:STANDARD
END:VTIMEZONE
BEGIN:VEVENT
DTSTAMP:20260421T183910
DTSTART;TZID=Europe/Berlin:20260124T100000
DTEND;TZID=Europe/Berlin:20260124T140000
UID:261-3002-20260124T100000@VHSHÖXTER
SUMMARY:Pflege-Kurs für Angehörige (Kostenfrei nach § 45 im SGB XI) (261-3002) 
LOCATION:Höxter, Asklepios Weserbergland Klinik, Grüne Mühle 90, 37671 Höxter
END:VEVENT
BEGIN:VEVENT
DTSTAMP:20260421T183910
DTSTART;TZID=Europe/Berlin:20260125T100000
DTEND;TZID=Europe/Berlin:20260125T140000
UID:261-3002-20260125T100000@VHSHÖXTER
SUMMARY:Pflege-Kurs für Angehörige (Kostenfrei nach § 45 im SGB XI) (261-3002) 
LOCATION:Höxter, Asklepios Weserbergland Klinik, Grüne Mühle 90, 37671 Höxter
END:VEVENT
BEGIN:VEVENT
DTSTAMP:20260421T183910
DTSTART;TZID=Europe/Berlin:20260131T100000
DTEND;TZID=Europe/Berlin:20260131T140000
UID:261-3002-20260131T100000@VHSHÖXTER
SUMMARY:Pflege-Kurs für Angehörige (Kostenfrei nach § 45 im SGB XI) (261-3002) 
LOCATION:Höxter, Asklepios Weserbergland Klinik, Grüne Mühle 90, 37671 Höxter
END:VEVENT
BEGIN:VEVENT
DTSTAMP:20260421T183910
DTSTART;TZID=Europe/Berlin:20260201T100000
DTEND;TZID=Europe/Berlin:20260201T140000
UID:261-3002-20260201T100000@VHSHÖXTER
SUMMARY:Pflege-Kurs für Angehörige (Kostenfrei nach § 45 im SGB XI) (261-3002) 
LOCATION:Höxter, Asklepios Weserbergland Klinik, Grüne Mühle 90, 37671 Höxter
END:VEVENT
END:VCALENDAR