BEGIN:VCALENDAR
PRODID:http://www.kufer.de/kuferweb / DE
VERSION:2.0
METHOD:PUBLISH
CALSCALE:GREGORIAN
X-WR-TIMEZONE:Europe/Berlin
BEGIN:VTIMEZONE
TZID:Europe/Berlin
X-LIC-LOCATION:Europe/Berlin
BEGIN:DAYLIGHT
TZOFFSETFROM:+0100
TZOFFSETTO:+0200
TZNAME:CEST
DTSTART;TZID=Europe/Berlin:19700329T020000
RRULE:FREQ=YEARLY;INTERVAL=1;BYDAY=-1SU;BYMONTH=3
END:DAYLIGHT
BEGIN:STANDARD
TZOFFSETFROM:+0200
TZOFFSETTO:+0100
TZNAME:CET
DTSTART;TZID=Europe/Berlin:19701025T030000
RRULE:FREQ=YEARLY;INTERVAL=1;BYDAY=-1SU;BYMONTH=10
END:STANDARD
END:VTIMEZONE
BEGIN:VEVENT
DTSTAMP:20260421T165413
DTSTART;TZID=Europe/Berlin:20260207T160000
DTEND;TZID=Europe/Berlin:20260207T180000
UID:261-2930-20260207T160000@VHSHÖXTER
SUMMARY:Musizieren auf Spielmannsinstrumenten (261-2930) 
LOCATION:Marienmünster, Grundschule Kollerbeck, Pyrmonter Straße 18, 37696 Marienmünster
END:VEVENT
BEGIN:VEVENT
DTSTAMP:20260421T165413
DTSTART;TZID=Europe/Berlin:20260221T160000
DTEND;TZID=Europe/Berlin:20260221T180000
UID:261-2930-20260221T160000@VHSHÖXTER
SUMMARY:Musizieren auf Spielmannsinstrumenten (261-2930) 
LOCATION:Marienmünster, Grundschule Kollerbeck, Pyrmonter Straße 18, 37696 Marienmünster
END:VEVENT
BEGIN:VEVENT
DTSTAMP:20260421T165413
DTSTART;TZID=Europe/Berlin:20260307T160000
DTEND;TZID=Europe/Berlin:20260307T180000
UID:261-2930-20260307T160000@VHSHÖXTER
SUMMARY:Musizieren auf Spielmannsinstrumenten (261-2930) 
LOCATION:Marienmünster, Grundschule Kollerbeck, Pyrmonter Straße 18, 37696 Marienmünster
END:VEVENT
BEGIN:VEVENT
DTSTAMP:20260421T165413
DTSTART;TZID=Europe/Berlin:20260321T160000
DTEND;TZID=Europe/Berlin:20260321T180000
UID:261-2930-20260321T160000@VHSHÖXTER
SUMMARY:Musizieren auf Spielmannsinstrumenten (261-2930) 
LOCATION:Marienmünster, Grundschule Kollerbeck, Pyrmonter Straße 18, 37696 Marienmünster
END:VEVENT
BEGIN:VEVENT
DTSTAMP:20260421T165413
DTSTART;TZID=Europe/Berlin:20260418T160000
DTEND;TZID=Europe/Berlin:20260418T180000
UID:261-2930-20260418T160000@VHSHÖXTER
SUMMARY:Musizieren auf Spielmannsinstrumenten (261-2930) 
LOCATION:Marienmünster, Grundschule Kollerbeck, Pyrmonter Straße 18, 37696 Marienmünster
END:VEVENT
BEGIN:VEVENT
DTSTAMP:20260421T165413
DTSTART;TZID=Europe/Berlin:20260502T160000
DTEND;TZID=Europe/Berlin:20260502T180000
UID:261-2930-20260502T160000@VHSHÖXTER
SUMMARY:Musizieren auf Spielmannsinstrumenten (261-2930) 
LOCATION:Marienmünster, Grundschule Kollerbeck, Pyrmonter Straße 18, 37696 Marienmünster
END:VEVENT
BEGIN:VEVENT
DTSTAMP:20260421T165413
DTSTART;TZID=Europe/Berlin:20260516T160000
DTEND;TZID=Europe/Berlin:20260516T180000
UID:261-2930-20260516T160000@VHSHÖXTER
SUMMARY:Musizieren auf Spielmannsinstrumenten (261-2930) 
LOCATION:Marienmünster, Grundschule Kollerbeck, Pyrmonter Straße 18, 37696 Marienmünster
END:VEVENT
END:VCALENDAR