BEGIN:VCALENDAR
PRODID:http://www.kufer.de/kuferweb / DE
VERSION:2.0
METHOD:PUBLISH
CALSCALE:GREGORIAN
X-WR-TIMEZONE:Europe/Berlin
BEGIN:VTIMEZONE
TZID:Europe/Berlin
X-LIC-LOCATION:Europe/Berlin
BEGIN:DAYLIGHT
TZOFFSETFROM:+0100
TZOFFSETTO:+0200
TZNAME:CEST
DTSTART;TZID=Europe/Berlin:19700329T020000
RRULE:FREQ=YEARLY;INTERVAL=1;BYDAY=-1SU;BYMONTH=3
END:DAYLIGHT
BEGIN:STANDARD
TZOFFSETFROM:+0200
TZOFFSETTO:+0100
TZNAME:CET
DTSTART;TZID=Europe/Berlin:19701025T030000
RRULE:FREQ=YEARLY;INTERVAL=1;BYDAY=-1SU;BYMONTH=10
END:STANDARD
END:VTIMEZONE
BEGIN:VEVENT
DTSTAMP:20260421T171557
DTSTART;TZID=Europe/Berlin:20260128T200000
DTEND;TZID=Europe/Berlin:20260128T213000
UID:261-2920-20260128T200000@VHSHÖXTER
SUMMARY:Collegium Musicum (261-2920) 
LOCATION:Haus der Volkshochschule, Aula, Möllingerstrasse 9, 37671 Höxter
END:VEVENT
BEGIN:VEVENT
DTSTAMP:20260421T171557
DTSTART;TZID=Europe/Berlin:20260225T200000
DTEND;TZID=Europe/Berlin:20260225T213000
UID:261-2920-20260225T200000@VHSHÖXTER
SUMMARY:Collegium Musicum (261-2920) 
LOCATION:Haus der Volkshochschule, Aula, Möllingerstrasse 9, 37671 Höxter
END:VEVENT
BEGIN:VEVENT
DTSTAMP:20260421T171557
DTSTART;TZID=Europe/Berlin:20260311T200000
DTEND;TZID=Europe/Berlin:20260311T213000
UID:261-2920-20260311T200000@VHSHÖXTER
SUMMARY:Collegium Musicum (261-2920) 
LOCATION:Haus der Volkshochschule, Aula, Möllingerstrasse 9, 37671 Höxter
END:VEVENT
BEGIN:VEVENT
DTSTAMP:20260421T171557
DTSTART;TZID=Europe/Berlin:20260415T200000
DTEND;TZID=Europe/Berlin:20260415T213000
UID:261-2920-20260415T200000@VHSHÖXTER
SUMMARY:Collegium Musicum (261-2920) 
LOCATION:Haus der Volkshochschule, Aula, Möllingerstrasse 9, 37671 Höxter
END:VEVENT
BEGIN:VEVENT
DTSTAMP:20260421T171557
DTSTART;TZID=Europe/Berlin:20260429T200000
DTEND;TZID=Europe/Berlin:20260429T213000
UID:261-2920-20260429T200000@VHSHÖXTER
SUMMARY:Collegium Musicum (261-2920) 
LOCATION:Haus der Volkshochschule, Aula, Möllingerstrasse 9, 37671 Höxter
END:VEVENT
BEGIN:VEVENT
DTSTAMP:20260421T171557
DTSTART;TZID=Europe/Berlin:20260520T200000
DTEND;TZID=Europe/Berlin:20260520T213000
UID:261-2920-20260520T200000@VHSHÖXTER
SUMMARY:Collegium Musicum (261-2920) 
LOCATION:Haus der Volkshochschule, Aula, Möllingerstrasse 9, 37671 Höxter
END:VEVENT
BEGIN:VEVENT
DTSTAMP:20260421T171557
DTSTART;TZID=Europe/Berlin:20260610T200000
DTEND;TZID=Europe/Berlin:20260610T213000
UID:261-2920-20260610T200000@VHSHÖXTER
SUMMARY:Collegium Musicum (261-2920) 
LOCATION:Haus der Volkshochschule, Aula, Möllingerstrasse 9, 37671 Höxter
END:VEVENT
BEGIN:VEVENT
DTSTAMP:20260421T171557
DTSTART;TZID=Europe/Berlin:20260701T200000
DTEND;TZID=Europe/Berlin:20260701T213000
UID:261-2920-20260701T200000@VHSHÖXTER
SUMMARY:Collegium Musicum (261-2920) 
LOCATION:Haus der Volkshochschule, Aula, Möllingerstrasse 9, 37671 Höxter
END:VEVENT
END:VCALENDAR