BEGIN:VCALENDAR
PRODID:http://www.kufer.de/kuferweb / DE
VERSION:2.0
METHOD:PUBLISH
CALSCALE:GREGORIAN
X-WR-TIMEZONE:Europe/Berlin
BEGIN:VTIMEZONE
TZID:Europe/Berlin
X-LIC-LOCATION:Europe/Berlin
BEGIN:DAYLIGHT
TZOFFSETFROM:+0100
TZOFFSETTO:+0200
TZNAME:CEST
DTSTART;TZID=Europe/Berlin:19700329T020000
RRULE:FREQ=YEARLY;INTERVAL=1;BYDAY=-1SU;BYMONTH=3
END:DAYLIGHT
BEGIN:STANDARD
TZOFFSETFROM:+0200
TZOFFSETTO:+0100
TZNAME:CET
DTSTART;TZID=Europe/Berlin:19701025T030000
RRULE:FREQ=YEARLY;INTERVAL=1;BYDAY=-1SU;BYMONTH=10
END:STANDARD
END:VTIMEZONE
BEGIN:VEVENT
DTSTAMP:20260421T153746
DTSTART;TZID=Europe/Berlin:20260202T081500
DTEND;TZID=Europe/Berlin:20260202T094500
UID:261-2820-20260202T081500@VHSHÖXTER
SUMMARY:Töpfern Kurs A (261-2820) 
LOCATION:Werkstätten am Grünenberg Ottbergen, Werkraum, , 
END:VEVENT
BEGIN:VEVENT
DTSTAMP:20260421T153746
DTSTART;TZID=Europe/Berlin:20260209T081500
DTEND;TZID=Europe/Berlin:20260209T094500
UID:261-2820-20260209T081500@VHSHÖXTER
SUMMARY:Töpfern Kurs A (261-2820) 
LOCATION:Werkstätten am Grünenberg Ottbergen, Werkraum, , 
END:VEVENT
BEGIN:VEVENT
DTSTAMP:20260421T153746
DTSTART;TZID=Europe/Berlin:20260223T081500
DTEND;TZID=Europe/Berlin:20260223T094500
UID:261-2820-20260223T081500@VHSHÖXTER
SUMMARY:Töpfern Kurs A (261-2820) 
LOCATION:Werkstätten am Grünenberg Ottbergen, Werkraum, , 
END:VEVENT
BEGIN:VEVENT
DTSTAMP:20260421T153746
DTSTART;TZID=Europe/Berlin:20260302T081500
DTEND;TZID=Europe/Berlin:20260302T094500
UID:261-2820-20260302T081500@VHSHÖXTER
SUMMARY:Töpfern Kurs A (261-2820) 
LOCATION:Werkstätten am Grünenberg Ottbergen, Werkraum, , 
END:VEVENT
BEGIN:VEVENT
DTSTAMP:20260421T153746
DTSTART;TZID=Europe/Berlin:20260309T081500
DTEND;TZID=Europe/Berlin:20260309T094500
UID:261-2820-20260309T081500@VHSHÖXTER
SUMMARY:Töpfern Kurs A (261-2820) 
LOCATION:Werkstätten am Grünenberg Ottbergen, Werkraum, , 
END:VEVENT
BEGIN:VEVENT
DTSTAMP:20260421T153746
DTSTART;TZID=Europe/Berlin:20260316T081500
DTEND;TZID=Europe/Berlin:20260316T094500
UID:261-2820-20260316T081500@VHSHÖXTER
SUMMARY:Töpfern Kurs A (261-2820) 
LOCATION:Werkstätten am Grünenberg Ottbergen, Werkraum, , 
END:VEVENT
BEGIN:VEVENT
DTSTAMP:20260421T153746
DTSTART;TZID=Europe/Berlin:20260323T081500
DTEND;TZID=Europe/Berlin:20260323T094500
UID:261-2820-20260323T081500@VHSHÖXTER
SUMMARY:Töpfern Kurs A (261-2820) 
LOCATION:Werkstätten am Grünenberg Ottbergen, Werkraum, , 
END:VEVENT
BEGIN:VEVENT
DTSTAMP:20260421T153746
DTSTART;TZID=Europe/Berlin:20260413T081500
DTEND;TZID=Europe/Berlin:20260413T094500
UID:261-2820-20260413T081500@VHSHÖXTER
SUMMARY:Töpfern Kurs A (261-2820) 
LOCATION:Werkstätten am Grünenberg Ottbergen, Werkraum, , 
END:VEVENT
BEGIN:VEVENT
DTSTAMP:20260421T153746
DTSTART;TZID=Europe/Berlin:20260420T081500
DTEND;TZID=Europe/Berlin:20260420T094500
UID:261-2820-20260420T081500@VHSHÖXTER
SUMMARY:Töpfern Kurs A (261-2820) 
LOCATION:Werkstätten am Grünenberg Ottbergen, Werkraum, , 
END:VEVENT
BEGIN:VEVENT
DTSTAMP:20260421T153746
DTSTART;TZID=Europe/Berlin:20260427T081500
DTEND;TZID=Europe/Berlin:20260427T094500
UID:261-2820-20260427T081500@VHSHÖXTER
SUMMARY:Töpfern Kurs A (261-2820) 
LOCATION:Werkstätten am Grünenberg Ottbergen, Werkraum, , 
END:VEVENT
END:VCALENDAR