BEGIN:VCALENDAR
PRODID:http://www.kufer.de/kuferweb / DE
VERSION:2.0
METHOD:PUBLISH
CALSCALE:GREGORIAN
X-WR-TIMEZONE:Europe/Berlin
BEGIN:VTIMEZONE
TZID:Europe/Berlin
X-LIC-LOCATION:Europe/Berlin
BEGIN:DAYLIGHT
TZOFFSETFROM:+0100
TZOFFSETTO:+0200
TZNAME:CEST
DTSTART;TZID=Europe/Berlin:19700329T020000
RRULE:FREQ=YEARLY;INTERVAL=1;BYDAY=-1SU;BYMONTH=3
END:DAYLIGHT
BEGIN:STANDARD
TZOFFSETFROM:+0200
TZOFFSETTO:+0100
TZNAME:CET
DTSTART;TZID=Europe/Berlin:19701025T030000
RRULE:FREQ=YEARLY;INTERVAL=1;BYDAY=-1SU;BYMONTH=10
END:STANDARD
END:VTIMEZONE
BEGIN:VEVENT
DTSTAMP:20260420T152838
DTSTART;TZID=Europe/Berlin:20260421T184500
DTEND;TZID=Europe/Berlin:20260421T210000
UID:261-2604-20260421T184500@VHSHÖXTER
SUMMARY:Nähkurs für Fortgeschrittene (261-2604) 
LOCATION:Haus der Volkshochschule, Raum 33, Möllingerstraße 9, 37671 Höxter
END:VEVENT
BEGIN:VEVENT
DTSTAMP:20260420T152838
DTSTART;TZID=Europe/Berlin:20260428T184500
DTEND;TZID=Europe/Berlin:20260428T210000
UID:261-2604-20260428T184500@VHSHÖXTER
SUMMARY:Nähkurs für Fortgeschrittene (261-2604) 
LOCATION:Haus der Volkshochschule, Raum 33, Möllingerstraße 9, 37671 Höxter
END:VEVENT
BEGIN:VEVENT
DTSTAMP:20260420T152838
DTSTART;TZID=Europe/Berlin:20260505T184500
DTEND;TZID=Europe/Berlin:20260505T210000
UID:261-2604-20260505T184500@VHSHÖXTER
SUMMARY:Nähkurs für Fortgeschrittene (261-2604) 
LOCATION:Haus der Volkshochschule, Raum 33, Möllingerstraße 9, 37671 Höxter
END:VEVENT
BEGIN:VEVENT
DTSTAMP:20260420T152838
DTSTART;TZID=Europe/Berlin:20260512T184500
DTEND;TZID=Europe/Berlin:20260512T210000
UID:261-2604-20260512T184500@VHSHÖXTER
SUMMARY:Nähkurs für Fortgeschrittene (261-2604) 
LOCATION:Haus der Volkshochschule, Raum 33, Möllingerstraße 9, 37671 Höxter
END:VEVENT
BEGIN:VEVENT
DTSTAMP:20260420T152838
DTSTART;TZID=Europe/Berlin:20260519T184500
DTEND;TZID=Europe/Berlin:20260519T210000
UID:261-2604-20260519T184500@VHSHÖXTER
SUMMARY:Nähkurs für Fortgeschrittene (261-2604) 
LOCATION:Haus der Volkshochschule, Raum 33, Möllingerstraße 9, 37671 Höxter
END:VEVENT
BEGIN:VEVENT
DTSTAMP:20260420T152838
DTSTART;TZID=Europe/Berlin:20260602T184500
DTEND;TZID=Europe/Berlin:20260602T210000
UID:261-2604-20260602T184500@VHSHÖXTER
SUMMARY:Nähkurs für Fortgeschrittene (261-2604) 
LOCATION:Haus der Volkshochschule, Raum 33, Möllingerstraße 9, 37671 Höxter
END:VEVENT
BEGIN:VEVENT
DTSTAMP:20260420T152838
DTSTART;TZID=Europe/Berlin:20260609T184500
DTEND;TZID=Europe/Berlin:20260609T210000
UID:261-2604-20260609T184500@VHSHÖXTER
SUMMARY:Nähkurs für Fortgeschrittene (261-2604) 
LOCATION:Haus der Volkshochschule, Raum 33, Möllingerstraße 9, 37671 Höxter
END:VEVENT
BEGIN:VEVENT
DTSTAMP:20260420T152838
DTSTART;TZID=Europe/Berlin:20260616T184500
DTEND;TZID=Europe/Berlin:20260616T210000
UID:261-2604-20260616T184500@VHSHÖXTER
SUMMARY:Nähkurs für Fortgeschrittene (261-2604) 
LOCATION:Haus der Volkshochschule, Raum 33, Möllingerstraße 9, 37671 Höxter
END:VEVENT
END:VCALENDAR