BEGIN:VCALENDAR
PRODID:http://www.kufer.de/kuferweb / DE
VERSION:2.0
METHOD:PUBLISH
CALSCALE:GREGORIAN
X-WR-TIMEZONE:Europe/Berlin
BEGIN:VTIMEZONE
TZID:Europe/Berlin
X-LIC-LOCATION:Europe/Berlin
BEGIN:DAYLIGHT
TZOFFSETFROM:+0100
TZOFFSETTO:+0200
TZNAME:CEST
DTSTART;TZID=Europe/Berlin:19700329T020000
RRULE:FREQ=YEARLY;INTERVAL=1;BYDAY=-1SU;BYMONTH=3
END:DAYLIGHT
BEGIN:STANDARD
TZOFFSETFROM:+0200
TZOFFSETTO:+0100
TZNAME:CET
DTSTART;TZID=Europe/Berlin:19701025T030000
RRULE:FREQ=YEARLY;INTERVAL=1;BYDAY=-1SU;BYMONTH=10
END:STANDARD
END:VTIMEZONE
BEGIN:VEVENT
DTSTAMP:20260421T192619
DTSTART;TZID=Europe/Berlin:20260212T183000
DTEND;TZID=Europe/Berlin:20260212T204500
UID:261-2602-20260212T183000@VHSHÖXTER
SUMMARY:Nähen für Anfänger (261-2602) 
LOCATION:Haus der Volkshochschule, Raum 33, Möllingerstraße 9, 37671 Höxter
END:VEVENT
BEGIN:VEVENT
DTSTAMP:20260421T192619
DTSTART;TZID=Europe/Berlin:20260219T183000
DTEND;TZID=Europe/Berlin:20260219T204500
UID:261-2602-20260219T183000@VHSHÖXTER
SUMMARY:Nähen für Anfänger (261-2602) 
LOCATION:Haus der Volkshochschule, Raum 33, Möllingerstraße 9, 37671 Höxter
END:VEVENT
BEGIN:VEVENT
DTSTAMP:20260421T192619
DTSTART;TZID=Europe/Berlin:20260226T183000
DTEND;TZID=Europe/Berlin:20260226T204500
UID:261-2602-20260226T183000@VHSHÖXTER
SUMMARY:Nähen für Anfänger (261-2602) 
LOCATION:Haus der Volkshochschule, Raum 33, Möllingerstraße 9, 37671 Höxter
END:VEVENT
BEGIN:VEVENT
DTSTAMP:20260421T192619
DTSTART;TZID=Europe/Berlin:20260312T183000
DTEND;TZID=Europe/Berlin:20260312T204500
UID:261-2602-20260312T183000@VHSHÖXTER
SUMMARY:Nähen für Anfänger (261-2602) 
LOCATION:Haus der Volkshochschule, Raum 33, Möllingerstraße 9, 37671 Höxter
END:VEVENT
BEGIN:VEVENT
DTSTAMP:20260421T192619
DTSTART;TZID=Europe/Berlin:20260319T183000
DTEND;TZID=Europe/Berlin:20260319T204500
UID:261-2602-20260319T183000@VHSHÖXTER
SUMMARY:Nähen für Anfänger (261-2602) 
LOCATION:Haus der Volkshochschule, Raum 33, Möllingerstraße 9, 37671 Höxter
END:VEVENT
BEGIN:VEVENT
DTSTAMP:20260421T192619
DTSTART;TZID=Europe/Berlin:20260326T183000
DTEND;TZID=Europe/Berlin:20260326T204500
UID:261-2602-20260326T183000@VHSHÖXTER
SUMMARY:Nähen für Anfänger (261-2602) 
LOCATION:Haus der Volkshochschule, Raum 33, Möllingerstraße 9, 37671 Höxter
END:VEVENT
BEGIN:VEVENT
DTSTAMP:20260421T192619
DTSTART;TZID=Europe/Berlin:20260423T183000
DTEND;TZID=Europe/Berlin:20260423T204500
UID:261-2602-20260423T183000@VHSHÖXTER
SUMMARY:Nähen für Anfänger (261-2602) 
LOCATION:Haus der Volkshochschule, Raum 33, Möllingerstraße 9, 37671 Höxter
END:VEVENT
BEGIN:VEVENT
DTSTAMP:20260421T192619
DTSTART;TZID=Europe/Berlin:20260430T183000
DTEND;TZID=Europe/Berlin:20260430T204500
UID:261-2602-20260430T183000@VHSHÖXTER
SUMMARY:Nähen für Anfänger (261-2602) 
LOCATION:Haus der Volkshochschule, Raum 33, Möllingerstraße 9, 37671 Höxter
END:VEVENT
END:VCALENDAR