BEGIN:VCALENDAR
PRODID:http://www.kufer.de/kuferweb / DE
VERSION:2.0
METHOD:PUBLISH
CALSCALE:GREGORIAN
X-WR-TIMEZONE:Europe/Berlin
BEGIN:VTIMEZONE
TZID:Europe/Berlin
X-LIC-LOCATION:Europe/Berlin
BEGIN:DAYLIGHT
TZOFFSETFROM:+0100
TZOFFSETTO:+0200
TZNAME:CEST
DTSTART;TZID=Europe/Berlin:19700329T020000
RRULE:FREQ=YEARLY;INTERVAL=1;BYDAY=-1SU;BYMONTH=3
END:DAYLIGHT
BEGIN:STANDARD
TZOFFSETFROM:+0200
TZOFFSETTO:+0100
TZNAME:CET
DTSTART;TZID=Europe/Berlin:19701025T030000
RRULE:FREQ=YEARLY;INTERVAL=1;BYDAY=-1SU;BYMONTH=10
END:STANDARD
END:VTIMEZONE
BEGIN:VEVENT
DTSTAMP:20260421T154632
DTSTART;TZID=Europe/Berlin:20260204T184500
DTEND;TZID=Europe/Berlin:20260204T210000
UID:261-2504-20260204T184500@VHSHÖXTER
SUMMARY:Male für dich - Aquarell- und Acrylmalerei (261-2504) 
LOCATION:Haus der Volkshochschule, Raum 17, Möllingerstraße 9, 37671 Höxter
END:VEVENT
BEGIN:VEVENT
DTSTAMP:20260421T154632
DTSTART;TZID=Europe/Berlin:20260211T184500
DTEND;TZID=Europe/Berlin:20260211T210000
UID:261-2504-20260211T184500@VHSHÖXTER
SUMMARY:Male für dich - Aquarell- und Acrylmalerei (261-2504) 
LOCATION:Haus der Volkshochschule, Raum 17, Möllingerstraße 9, 37671 Höxter
END:VEVENT
BEGIN:VEVENT
DTSTAMP:20260421T154632
DTSTART;TZID=Europe/Berlin:20260218T184500
DTEND;TZID=Europe/Berlin:20260218T210000
UID:261-2504-20260218T184500@VHSHÖXTER
SUMMARY:Male für dich - Aquarell- und Acrylmalerei (261-2504) 
LOCATION:Haus der Volkshochschule, Raum 17, Möllingerstraße 9, 37671 Höxter
END:VEVENT
BEGIN:VEVENT
DTSTAMP:20260421T154632
DTSTART;TZID=Europe/Berlin:20260225T184500
DTEND;TZID=Europe/Berlin:20260225T210000
UID:261-2504-20260225T184500@VHSHÖXTER
SUMMARY:Male für dich - Aquarell- und Acrylmalerei (261-2504) 
LOCATION:Haus der Volkshochschule, Raum 17, Möllingerstraße 9, 37671 Höxter
END:VEVENT
BEGIN:VEVENT
DTSTAMP:20260421T154632
DTSTART;TZID=Europe/Berlin:20260304T184500
DTEND;TZID=Europe/Berlin:20260304T210000
UID:261-2504-20260304T184500@VHSHÖXTER
SUMMARY:Male für dich - Aquarell- und Acrylmalerei (261-2504) 
LOCATION:Haus der Volkshochschule, Raum 17, Möllingerstraße 9, 37671 Höxter
END:VEVENT
BEGIN:VEVENT
DTSTAMP:20260421T154632
DTSTART;TZID=Europe/Berlin:20260311T184500
DTEND;TZID=Europe/Berlin:20260311T210000
UID:261-2504-20260311T184500@VHSHÖXTER
SUMMARY:Male für dich - Aquarell- und Acrylmalerei (261-2504) 
LOCATION:Haus der Volkshochschule, Raum 17, Möllingerstraße 9, 37671 Höxter
END:VEVENT
BEGIN:VEVENT
DTSTAMP:20260421T154632
DTSTART;TZID=Europe/Berlin:20260318T184500
DTEND;TZID=Europe/Berlin:20260318T210000
UID:261-2504-20260318T184500@VHSHÖXTER
SUMMARY:Male für dich - Aquarell- und Acrylmalerei (261-2504) 
LOCATION:Haus der Volkshochschule, Raum 17, Möllingerstraße 9, 37671 Höxter
END:VEVENT
BEGIN:VEVENT
DTSTAMP:20260421T154632
DTSTART;TZID=Europe/Berlin:20260325T184500
DTEND;TZID=Europe/Berlin:20260325T210000
UID:261-2504-20260325T184500@VHSHÖXTER
SUMMARY:Male für dich - Aquarell- und Acrylmalerei (261-2504) 
LOCATION:Haus der Volkshochschule, Raum 17, Möllingerstraße 9, 37671 Höxter
END:VEVENT
END:VCALENDAR