BEGIN:VCALENDAR
PRODID:http://www.kufer.de/kuferweb / DE
VERSION:2.0
METHOD:PUBLISH
CALSCALE:GREGORIAN
X-WR-TIMEZONE:Europe/Berlin
BEGIN:VTIMEZONE
TZID:Europe/Berlin
X-LIC-LOCATION:Europe/Berlin
BEGIN:DAYLIGHT
TZOFFSETFROM:+0100
TZOFFSETTO:+0200
TZNAME:CEST
DTSTART;TZID=Europe/Berlin:19700329T020000
RRULE:FREQ=YEARLY;INTERVAL=1;BYDAY=-1SU;BYMONTH=3
END:DAYLIGHT
BEGIN:STANDARD
TZOFFSETFROM:+0200
TZOFFSETTO:+0100
TZNAME:CET
DTSTART;TZID=Europe/Berlin:19701025T030000
RRULE:FREQ=YEARLY;INTERVAL=1;BYDAY=-1SU;BYMONTH=10
END:STANDARD
END:VTIMEZONE
BEGIN:VEVENT
DTSTAMP:20260420T131331
DTSTART;TZID=Europe/Berlin:20260205T183000
DTEND;TZID=Europe/Berlin:20260205T200000
UID:261-2450-20260205T183000@VHSHÖXTER
SUMMARY:Spielend kreativ – Improvisation, Theater & Ausdruck (261-2450) 
LOCATION:Haus der Volkshochschule, Raum 07, Möllingerstraße 9, 37671 Höxter
END:VEVENT
BEGIN:VEVENT
DTSTAMP:20260420T131331
DTSTART;TZID=Europe/Berlin:20260212T183000
DTEND;TZID=Europe/Berlin:20260212T200000
UID:261-2450-20260212T183000@VHSHÖXTER
SUMMARY:Spielend kreativ – Improvisation, Theater & Ausdruck (261-2450) 
LOCATION:Haus der Volkshochschule, Raum 07, Möllingerstraße 9, 37671 Höxter
END:VEVENT
BEGIN:VEVENT
DTSTAMP:20260420T131331
DTSTART;TZID=Europe/Berlin:20260219T183000
DTEND;TZID=Europe/Berlin:20260219T200000
UID:261-2450-20260219T183000@VHSHÖXTER
SUMMARY:Spielend kreativ – Improvisation, Theater & Ausdruck (261-2450) 
LOCATION:Haus der Volkshochschule, Raum 07, Möllingerstraße 9, 37671 Höxter
END:VEVENT
BEGIN:VEVENT
DTSTAMP:20260420T131331
DTSTART;TZID=Europe/Berlin:20260226T183000
DTEND;TZID=Europe/Berlin:20260226T200000
UID:261-2450-20260226T183000@VHSHÖXTER
SUMMARY:Spielend kreativ – Improvisation, Theater & Ausdruck (261-2450) 
LOCATION:Haus der Volkshochschule, Raum 07, Möllingerstraße 9, 37671 Höxter
END:VEVENT
BEGIN:VEVENT
DTSTAMP:20260420T131331
DTSTART;TZID=Europe/Berlin:20260305T183000
DTEND;TZID=Europe/Berlin:20260305T200000
UID:261-2450-20260305T183000@VHSHÖXTER
SUMMARY:Spielend kreativ – Improvisation, Theater & Ausdruck (261-2450) 
LOCATION:Haus der Volkshochschule, Raum 07, Möllingerstraße 9, 37671 Höxter
END:VEVENT
BEGIN:VEVENT
DTSTAMP:20260420T131331
DTSTART;TZID=Europe/Berlin:20260312T183000
DTEND;TZID=Europe/Berlin:20260312T200000
UID:261-2450-20260312T183000@VHSHÖXTER
SUMMARY:Spielend kreativ – Improvisation, Theater & Ausdruck (261-2450) 
LOCATION:Haus der Volkshochschule, Raum 07, Möllingerstraße 9, 37671 Höxter
END:VEVENT
BEGIN:VEVENT
DTSTAMP:20260420T131331
DTSTART;TZID=Europe/Berlin:20260319T183000
DTEND;TZID=Europe/Berlin:20260319T200000
UID:261-2450-20260319T183000@VHSHÖXTER
SUMMARY:Spielend kreativ – Improvisation, Theater & Ausdruck (261-2450) 
LOCATION:Haus der Volkshochschule, Raum 07, Möllingerstraße 9, 37671 Höxter
END:VEVENT
BEGIN:VEVENT
DTSTAMP:20260420T131331
DTSTART;TZID=Europe/Berlin:20260326T183000
DTEND;TZID=Europe/Berlin:20260326T200000
UID:261-2450-20260326T183000@VHSHÖXTER
SUMMARY:Spielend kreativ – Improvisation, Theater & Ausdruck (261-2450) 
LOCATION:Haus der Volkshochschule, Raum 07, Möllingerstraße 9, 37671 Höxter
END:VEVENT
BEGIN:VEVENT
DTSTAMP:20260420T131331
DTSTART;TZID=Europe/Berlin:20260423T180000
DTEND;TZID=Europe/Berlin:20260423T193000
UID:261-2450-20260423T180000@VHSHÖXTER
SUMMARY:Spielend kreativ – Improvisation, Theater & Ausdruck (261-2450) 
LOCATION:Haus der Volkshochschule, Raum 07, Möllingerstraße 9, 37671 Höxter
END:VEVENT
BEGIN:VEVENT
DTSTAMP:20260420T131331
DTSTART;TZID=Europe/Berlin:20260430T180000
DTEND;TZID=Europe/Berlin:20260430T193000
UID:261-2450-20260430T180000@VHSHÖXTER
SUMMARY:Spielend kreativ – Improvisation, Theater & Ausdruck (261-2450) 
LOCATION:Haus der Volkshochschule, Raum 07, Möllingerstraße 9, 37671 Höxter
END:VEVENT
BEGIN:VEVENT
DTSTAMP:20260420T131331
DTSTART;TZID=Europe/Berlin:20260507T180000
DTEND;TZID=Europe/Berlin:20260507T193000
UID:261-2450-20260507T180000@VHSHÖXTER
SUMMARY:Spielend kreativ – Improvisation, Theater & Ausdruck (261-2450) 
LOCATION:Haus der Volkshochschule, Raum 07, Möllingerstraße 9, 37671 Höxter
END:VEVENT
BEGIN:VEVENT
DTSTAMP:20260420T131331
DTSTART;TZID=Europe/Berlin:20260521T180000
DTEND;TZID=Europe/Berlin:20260521T193000
UID:261-2450-20260521T180000@VHSHÖXTER
SUMMARY:Spielend kreativ – Improvisation, Theater & Ausdruck (261-2450) 
LOCATION:Haus der Volkshochschule, Raum 07, Möllingerstraße 9, 37671 Höxter
END:VEVENT
BEGIN:VEVENT
DTSTAMP:20260420T131331
DTSTART;TZID=Europe/Berlin:20260528T180000
DTEND;TZID=Europe/Berlin:20260528T193000
UID:261-2450-20260528T180000@VHSHÖXTER
SUMMARY:Spielend kreativ – Improvisation, Theater & Ausdruck (261-2450) 
LOCATION:Haus der Volkshochschule, Raum 07, Möllingerstraße 9, 37671 Höxter
END:VEVENT
BEGIN:VEVENT
DTSTAMP:20260420T131331
DTSTART;TZID=Europe/Berlin:20260611T180000
DTEND;TZID=Europe/Berlin:20260611T193000
UID:261-2450-20260611T180000@VHSHÖXTER
SUMMARY:Spielend kreativ – Improvisation, Theater & Ausdruck (261-2450) 
LOCATION:Haus der Volkshochschule, Raum 07, Möllingerstraße 9, 37671 Höxter
END:VEVENT
BEGIN:VEVENT
DTSTAMP:20260420T131331
DTSTART;TZID=Europe/Berlin:20260618T180000
DTEND;TZID=Europe/Berlin:20260618T193000
UID:261-2450-20260618T180000@VHSHÖXTER
SUMMARY:Spielend kreativ – Improvisation, Theater & Ausdruck (261-2450) 
LOCATION:Haus der Volkshochschule, Raum 07, Möllingerstraße 9, 37671 Höxter
END:VEVENT
BEGIN:VEVENT
DTSTAMP:20260420T131331
DTSTART;TZID=Europe/Berlin:20260625T180000
DTEND;TZID=Europe/Berlin:20260625T193000
UID:261-2450-20260625T180000@VHSHÖXTER
SUMMARY:Spielend kreativ – Improvisation, Theater & Ausdruck (261-2450) 
LOCATION:Haus der Volkshochschule, Raum 07, Möllingerstraße 9, 37671 Höxter
END:VEVENT
BEGIN:VEVENT
DTSTAMP:20260420T131331
DTSTART;TZID=Europe/Berlin:20260702T180000
DTEND;TZID=Europe/Berlin:20260702T193000
UID:261-2450-20260702T180000@VHSHÖXTER
SUMMARY:Spielend kreativ – Improvisation, Theater & Ausdruck (261-2450) 
LOCATION:Haus der Volkshochschule, Raum 07, Möllingerstraße 9, 37671 Höxter
END:VEVENT
BEGIN:VEVENT
DTSTAMP:20260420T131331
DTSTART;TZID=Europe/Berlin:20260709T180000
DTEND;TZID=Europe/Berlin:20260709T193000
UID:261-2450-20260709T180000@VHSHÖXTER
SUMMARY:Spielend kreativ – Improvisation, Theater & Ausdruck (261-2450) 
LOCATION:Haus der Volkshochschule, Raum 07, Möllingerstraße 9, 37671 Höxter
END:VEVENT
BEGIN:VEVENT
DTSTAMP:20260420T131331
DTSTART;TZID=Europe/Berlin:20260716T180000
DTEND;TZID=Europe/Berlin:20260716T193000
UID:261-2450-20260716T180000@VHSHÖXTER
SUMMARY:Spielend kreativ – Improvisation, Theater & Ausdruck (261-2450) 
LOCATION:Haus der Volkshochschule, Raum 07, Möllingerstraße 9, 37671 Höxter
END:VEVENT
END:VCALENDAR