BEGIN:VCALENDAR
PRODID:http://www.kufer.de/kuferweb / DE
VERSION:2.0
METHOD:PUBLISH
CALSCALE:GREGORIAN
X-WR-TIMEZONE:Europe/Berlin
BEGIN:VTIMEZONE
TZID:Europe/Berlin
X-LIC-LOCATION:Europe/Berlin
BEGIN:DAYLIGHT
TZOFFSETFROM:+0100
TZOFFSETTO:+0200
TZNAME:CEST
DTSTART;TZID=Europe/Berlin:19700329T020000
RRULE:FREQ=YEARLY;INTERVAL=1;BYDAY=-1SU;BYMONTH=3
END:DAYLIGHT
BEGIN:STANDARD
TZOFFSETFROM:+0200
TZOFFSETTO:+0100
TZNAME:CET
DTSTART;TZID=Europe/Berlin:19701025T030000
RRULE:FREQ=YEARLY;INTERVAL=1;BYDAY=-1SU;BYMONTH=10
END:STANDARD
END:VTIMEZONE
BEGIN:VEVENT
DTSTAMP:20260421T171624
DTSTART;TZID=Europe/Berlin:20260203T163000
DTEND;TZID=Europe/Berlin:20260203T173000
UID:261-1603-20260203T163000@VHSHÖXTER
SUMMARY:Kommunikation mit Herz und Verstand für Eltern, Großeltern und Interessierte (261-1603) 
LOCATION:Haus der Volkshochschule, Raum 17, Möllingerstraße 9, 37671 Höxter
END:VEVENT
BEGIN:VEVENT
DTSTAMP:20260421T171624
DTSTART;TZID=Europe/Berlin:20260210T163000
DTEND;TZID=Europe/Berlin:20260210T173000
UID:261-1603-20260210T163000@VHSHÖXTER
SUMMARY:Kommunikation mit Herz und Verstand für Eltern, Großeltern und Interessierte (261-1603) 
LOCATION:Haus der Volkshochschule, Raum 17, Möllingerstraße 9, 37671 Höxter
END:VEVENT
BEGIN:VEVENT
DTSTAMP:20260421T171624
DTSTART;TZID=Europe/Berlin:20260217T163000
DTEND;TZID=Europe/Berlin:20260217T173000
UID:261-1603-20260217T163000@VHSHÖXTER
SUMMARY:Kommunikation mit Herz und Verstand für Eltern, Großeltern und Interessierte (261-1603) 
LOCATION:Haus der Volkshochschule, Raum 17, Möllingerstraße 9, 37671 Höxter
END:VEVENT
BEGIN:VEVENT
DTSTAMP:20260421T171624
DTSTART;TZID=Europe/Berlin:20260224T163000
DTEND;TZID=Europe/Berlin:20260224T173000
UID:261-1603-20260224T163000@VHSHÖXTER
SUMMARY:Kommunikation mit Herz und Verstand für Eltern, Großeltern und Interessierte (261-1603) 
LOCATION:Haus der Volkshochschule, Raum 17, Möllingerstraße 9, 37671 Höxter
END:VEVENT
BEGIN:VEVENT
DTSTAMP:20260421T171624
DTSTART;TZID=Europe/Berlin:20260303T163000
DTEND;TZID=Europe/Berlin:20260303T173000
UID:261-1603-20260303T163000@VHSHÖXTER
SUMMARY:Kommunikation mit Herz und Verstand für Eltern, Großeltern und Interessierte (261-1603) 
LOCATION:Haus der Volkshochschule, Raum 17, Möllingerstraße 9, 37671 Höxter
END:VEVENT
BEGIN:VEVENT
DTSTAMP:20260421T171624
DTSTART;TZID=Europe/Berlin:20260310T163000
DTEND;TZID=Europe/Berlin:20260310T173000
UID:261-1603-20260310T163000@VHSHÖXTER
SUMMARY:Kommunikation mit Herz und Verstand für Eltern, Großeltern und Interessierte (261-1603) 
LOCATION:Haus der Volkshochschule, Raum 17, Möllingerstraße 9, 37671 Höxter
END:VEVENT
END:VCALENDAR